{"text_format":"1","workbook":"xlsx","n_sheets":4,"sheets":["Лист1","Лист2","Лист3","Лист4"],"not_rendered":{"charts":0,"images":0,"macros":1,"external_links":0,"defined_names":0,"comments":0,"pivot_tables":0},"unopened":[],"bounds":{"document_bytes":16777216,"sheet_cells":100000,"rows_first":2000,"rows_last":500,"rows_between":2000,"halvings":0,"cell_chars":16384,"cell_head_chars":4096},"cells_cut":0,"cells_raw":0,"read":"whole","date_system":"1900"}

{"sheet":"Лист1","index":0,"n_rows":27,"n_cols":20,"rows_kept":27,"cut":false,"hidden":false,"merged":[[1,19,13,25],[15,19,15,25]]}
[]
[null,null,1,null,null,1,null,1,null,null,1,null,null,1,null,1,null,null,null,"Модель отображает предполагаемое распределение общественного мнения по поводу пандемии гриппа в России. Единица (розовая ячейка) - обозначение агентов, характеризующихся серьезным и очень серьезным отношением к пандемии. Нуль (желтая ячейка) - агенты, считающие серьезность пандемии в стране преувеличенной. Тройка (красная ячейка) - внешнее влияние (СМИ и т.д.), которое предполагает создание серьезного отношения к гриппу в РФ. Отношения агента складывается из его мнения и мнения окружения. В окружении каждого элемента учитываются диагональные связи (всего 9 агентов). Вспомогательные таблицы - на 2 листе документа. Запуск макроса - в цикле. На листе 3 - сравнительная таблица (анализ процесса без агентов внешнего влияния)"]
[null,null,0,1,0,1,0,1,1,0,1,0,1,0,1]
[null,null,1,0,0,0,1,0,1,1,0,1,1,1,1,1]
[null,null,1,1,1,1,1,0,0,0,1,1,0,1,0]
[null,1,3,0,0,1,1,0,1,1,0,1,1,0,1,1]
[null,null,1,1,1,1,3,1,1,0,0,1,0,1,1]
[null,null,0,0,1,0,0,1,0,1,0,0,1,0,1]
[null,1,1,0,0,0,1,1,0,0,1,1,1,1,1]
[null,null,1,1,1,1,1,1,1,1,1,3,1,0,1]
[null,null,0,0,0,0,1,0,0,1,1,0,1,1,1,1]
[null,null,0,1,1,1,0,1,0,1,1,0,1,1,0]
[null,null,1,1,3,1,0,1,0,0,0,3,1,1,0,1]
[null,null,0,1,0,1,1,1,0,1,0,1,1,0,1]
[null,null,0,1,1,0,1,0,0,1,1,1,1,1,3]
[null,null,0,1,0,0,1,0,1,0,1,0,1,0,1,null,null,null,null,"Лысенко Ирина, группа 103"]
[null,1,1,1,1,1,1,0,1,1,0,0,0,1,1,1]
[null,null,1,0,1,3,1,1,0,0,1,0,1,0,1]
[null,null,0,0,1,0,0,1,1,1,1,3,1,1,1]
[null,null,1,1,1,1,0,1,0,1,0,0,1,0,1,1]
[null,null,1,3,0,0,1,0,1,0,1,0,0,1,1]
[null,1,1,1,0,0,1,1,0,1,0,1,1,0,1]
[null,null,0,1,1,0,1,0,1,1,0,1,0,1,0]
[null,null,1,1,0,1,1,0,1,0,1,0,1,1,0]
[null,null,1,0,1,1,0,0,3,1,1,0,0,0,1,1]
[null,null,0,1,1,1,0,0,1,0,1,0,0,1,0,1]
[null,null,null,null,null,1,null,1,null,null,null,1,null,1]

{"sheet":"Лист2","index":1,"n_rows":54,"n_cols":16,"rows_kept":54,"cut":false,"hidden":false,"merged":[]}
[]
[]
[null,null,{"$f":"IF(Лист1!C3+Лист1!C2+Лист1!B2+Лист1!B3+Лист1!B4+Лист1!C4+Лист1!D4+Лист1!D3+Лист1!D2>4,1,0)","v":0},{"$f":"IF(Лист1!D3+Лист1!D2+Лист1!C2+Лист1!C3+Лист1!C4+Лист1!D4+Лист1!E4+Лист1!E3+Лист1!E2>4,1,0)","v":0},{"$f":"IF(Лист1!E3+Лист1!E2+Лист1!D2+Лист1!D3+Лист1!D4+Лист1!E4+Лист1!F4+Лист1!F3+Лист1!F2>4,1,0)","v":0},{"$f":"IF(Лист1!F3+Лист1!F2+Лист1!E2+Лист1!E3+Лист1!E4+Лист1!F4+Лист1!G4+Лист1!G3+Лист1!G2>4,1,0)","v":0},{"$f":"IF(Лист1!G3+Лист1!G2+Лист1!F2+Лист1!F3+Лист1!F4+Лист1!G4+Лист1!H4+Лист1!H3+Лист1!H2>4,1,0)","v":1},{"$f":"IF(Лист1!H3+Лист1!H2+Лист1!G2+Лист1!G3+Лист1!G4+Лист1!H4+Лист1!I4+Лист1!I3+Лист1!I2>4,1,0)","v":1},{"$f":"IF(Лист1!I3+Лист1!I2+Лист1!H2+Лист1!H3+Лист1!H4+Лист1!I4+Лист1!J4+Лист1!J3+Лист1!J2>4,1,0)","v":1},{"$f":"IF(Лист1!J3+Лист1!J2+Лист1!I2+Лист1!I3+Лист1!I4+Лист1!J4+Лист1!K4+Лист1!K3+Лист1!K2>4,1,0)","v":1},{"$f":"IF(Лист1!K3+Лист1!K2+Лист1!J2+Лист1!J3+Лист1!J4+Лист1!K4+Лист1!L4+Лист1!L3+Лист1!L2>4,1,0)","v":0},{"$f":"IF(Лист1!L3+Лист1!L2+Лист1!K2+Лист1!K3+Лист1!K4+Лист1!L4+Лист1!M4+Лист1!M3+Лист1!M2>4,1,0)","v":1},{"$f":"IF(Лист1!M3+Лист1!M2+Лист1!L2+Лист1!L3+Лист1!L4+Лист1!M4+Лист1!N4+Лист1!N3+Лист1!N2>4,1,0)","v":1},{"$f":"IF(Лист1!N3+Лист1!N2+Лист1!M2+Лист1!M3+Лист1!M4+Лист1!N4+Лист1!O4+Лист1!O3+Лист1!O2>4,1,0)","v":1},{"$f":"IF(Лист1!O3+Лист1!O2+Лист1!N2+Лист1!N3+Лист1!N4+Лист1!O4+Лист1!P4+Лист1!P3+Лист1!P2>4,1,0)","v":1}]
[null,null,{"$f":"IF(Лист1!C4+Лист1!C3+Лист1!B3+Лист1!B4+Лист1!B5+Лист1!C5+Лист1!D5+Лист1!D4+Лист1!D3>4,1,0)","v":0},{"$f":"IF(Лист1!D4+Лист1!D3+Лист1!C3+Лист1!C4+Лист1!C5+Лист1!D5+Лист1!E5+Лист1!E4+Лист1!E3>4,1,0)","v":1},{"$f":"IF(Лист1!E4+Лист1!E3+Лист1!D3+Лист1!D4+Лист1!D5+Лист1!E5+Лист1!F5+Лист1!F4+Лист1!F3>4,1,0)","v":1},{"$f":"IF(Лист1!F4+Лист1!F3+Лист1!E3+Лист1!E4+Лист1!E5+Лист1!F5+Лист1!G5+Лист1!G4+Лист1!G3>4,1,0)","v":1},{"$f":"IF(Лист1!G4+Лист1!G3+Лист1!F3+Лист1!F4+Лист1!F5+Лист1!G5+Лист1!H5+Лист1!H4+Лист1!H3>4,1,0)","v":1},{"$f":"IF(Лист1!H4+Лист1!H3+Лист1!G3+Лист1!G4+Лист1!G5+Лист1!H5+Лист1!I5+Лист1!I4+Лист1!I3>4,1,0)","v":1},{"$f":"IF(Лист1!I4+Лист1!I3+Лист1!H3+Лист1!H4+Лист1!H5+Лист1!I5+Лист1!J5+Лист1!J4+Лист1!J3>4,1,0)","v":0},{"$f":"IF(Лист1!J4+Лист1!J3+Лист1!I3+Лист1!I4+Лист1!I5+Лист1!J5+Лист1!K5+Лист1!K4+Лист1!K3>4,1,0)","v":1},{"$f":"IF(Лист1!K4+Лист1!K3+Лист1!J3+Лист1!J4+Лист1!J5+Лист1!K5+Лист1!L5+Лист1!L4+Лист1!L3>4,1,0)","v":1},{"$f":"IF(Лист1!L4+Лист1!L3+Лист1!K3+Лист1!K4+Лист1!K5+Лист1!L5+Лист1!M5+Лист1!M4+Лист1!M3>4,1,0)","v":1},{"$f":"IF(Лист1!M4+Лист1!M3+Лист1!L3+Лист1!L4+Лист1!L5+Лист1!M5+Лист1!N5+Лист1!N4+Лист1!N3>4,1,0)","v":1},{"$f":"IF(Лист1!N4+Лист1!N3+Лист1!M3+Лист1!M4+Лист1!M5+Лист1!N5+Лист1!O5+Лист1!O4+Лист1!O3>4,1,0)","v":1},{"$f":"IF(Лист1!O4+Лист1!O3+Лист1!N3+Лист1!N4+Лист1!N5+Лист1!O5+Лист1!P5+Лист1!P4+Лист1!P3>4,1,0)","v":1}]
[null,null,{"$f":"IF(Лист1!C5+Лист1!C4+Лист1!B4+Лист1!B5+Лист1!B6+Лист1!C6+Лист1!D6+Лист1!D5+Лист1!D4>4,1,0)","v":1},{"$f":"IF(Лист1!D5+Лист1!D4+Лист1!C4+Лист1!C5+Лист1!C6+Лист1!D6+Лист1!E6+Лист1!E5+Лист1!E4>4,1,0)","v":1},{"$f":"IF(Лист1!E5+Лист1!E4+Лист1!D4+Лист1!D5+Лист1!D6+Лист1!E6+Лист1!F6+Лист1!F5+Лист1!F4>4,1,0)","v":0},{"$f":"IF(Лист1!F5+Лист1!F4+Лист1!E4+Лист1!E5+Лист1!E6+Лист1!F6+Лист1!G6+Лист1!G5+Лист1!G4>4,1,0)","v":1},{"$f":"IF(Лист1!G5+Лист1!G4+Лист1!F4+Лист1!F5+Лист1!F6+Лист1!G6+Лист1!H6+Лист1!H5+Лист1!H4>4,1,0)","v":1},{"$f":"IF(Лист1!H5+Лист1!H4+Лист1!G4+Лист1!G5+Лист1!G6+Лист1!H6+Лист1!I6+Лист1!I5+Лист1!I4>4,1,0)","v":1},{"$f":"IF(Лист1!I5+Лист1!I4+Лист1!H4+Лист1!H5+Лист1!H6+Лист1!I6+Лист1!J6+Лист1!J5+Лист1!J4>4,1,0)","v":0},{"$f":"IF(Лист1!J5+Лист1!J4+Лист1!I4+Лист1!I5+Лист1!I6+Лист1!J6+Лист1!K6+Лист1!K5+Лист1!K4>4,1,0)","v":1},{"$f":"IF(Лист1!K5+Лист1!K4+Лист1!J4+Лист1!J5+Лист1!J6+Лист1!K6+Лист1!L6+Лист1!L5+Лист1!L4>4,1,0)","v":1},{"$f":"IF(Лист1!L5+Лист1!L4+Лист1!K4+Лист1!K5+Лист1!K6+Лист1!L6+Лист1!M6+Лист1!M5+Лист1!M4>4,1,0)","v":1},{"$f":"IF(Лист1!M5+Лист1!M4+Лист1!L4+Лист1!L5+Лист1!L6+Лист1!M6+Лист1!N6+Лист1!N5+Лист1!N4>4,1,0)","v":1},{"$f":"IF(Лист1!N5+Лист1!N4+Лист1!M4+Лист1!M5+Лист1!M6+Лист1!N6+Лист1!O6+Лист1!O5+Лист1!O4>4,1,0)","v":1},{"$f":"IF(Лист1!O5+Лист1!O4+Лист1!N4+Лист1!N5+Лист1!N6+Лист1!O6+Лист1!P6+Лист1!P5+Лист1!P4>4,1,0)","v":1}]
[null,null,{"$f":"IF(Лист1!C6+Лист1!C5+Лист1!B5+Лист1!B6+Лист1!B7+Лист1!C7+Лист1!D7+Лист1!D6+Лист1!D5>4,1,0)","v":1},{"$f":"IF(Лист1!D6+Лист1!D5+Лист1!C5+Лист1!C6+Лист1!C7+Лист1!D7+Лист1!E7+Лист1!E6+Лист1!E5>4,1,0)","v":1},{"$f":"IF(Лист1!E6+Лист1!E5+Лист1!D5+Лист1!D6+Лист1!D7+Лист1!E7+Лист1!F7+Лист1!F6+Лист1!F5>4,1,0)","v":1},{"$f":"IF(Лист1!F6+Лист1!F5+Лист1!E5+Лист1!E6+Лист1!E7+Лист1!F7+Лист1!G7+Лист1!G6+Лист1!G5>4,1,0)","v":1},{"$f":"IF(Лист1!G6+Лист1!G5+Лист1!F5+Лист1!F6+Лист1!F7+Лист1!G7+Лист1!H7+Лист1!H6+Лист1!H5>4,1,0)","v":1},{"$f":"IF(Лист1!H6+Лист1!H5+Лист1!G5+Лист1!G6+Лист1!G7+Лист1!H7+Лист1!I7+Лист1!I6+Лист1!I5>4,1,0)","v":1},{"$f":"IF(Лист1!I6+Лист1!I5+Лист1!H5+Лист1!H6+Лист1!H7+Лист1!I7+Лист1!J7+Лист1!J6+Лист1!J5>4,1,0)","v":0},{"$f":"IF(Лист1!J6+Лист1!J5+Лист1!I5+Лист1!I6+Лист1!I7+Лист1!J7+Лист1!K7+Лист1!K6+Лист1!K5>4,1,0)","v":0},{"$f":"IF(Лист1!K6+Лист1!K5+Лист1!J5+Лист1!J6+Лист1!J7+Лист1!K7+Лист1!L7+Лист1!L6+Лист1!L5>4,1,0)","v":1},{"$f":"IF(Лист1!L6+Лист1!L5+Лист1!K5+Лист1!K6+Лист1!K7+Лист1!L7+Лист1!M7+Лист1!M6+Лист1!M5>4,1,0)","v":1},{"$f":"IF(Лист1!M6+Лист1!M5+Лист1!L5+Лист1!L6+Лист1!L7+Лист1!M7+Лист1!N7+Лист1!N6+Лист1!N5>4,1,0)","v":1},{"$f":"IF(Лист1!N6+Лист1!N5+Лист1!M5+Лист1!M6+Лист1!M7+Лист1!N7+Лист1!O7+Лист1!O6+Лист1!O5>4,1,0)","v":1},{"$f":"IF(Лист1!O6+Лист1!O5+Лист1!N5+Лист1!N6+Лист1!N7+Лист1!O7+Лист1!P7+Лист1!P6+Лист1!P5>4,1,0)","v":1}]
[null,null,{"$f":"IF(Лист1!C7+Лист1!C6+Лист1!B6+Лист1!B7+Лист1!B8+Лист1!C8+Лист1!D8+Лист1!D7+Лист1!D6>4,1,0)","v":1},{"$f":"IF(Лист1!D7+Лист1!D6+Лист1!C6+Лист1!C7+Лист1!C8+Лист1!D8+Лист1!E8+Лист1!E7+Лист1!E6>4,1,0)","v":1},{"$f":"IF(Лист1!E7+Лист1!E6+Лист1!D6+Лист1!D7+Лист1!D8+Лист1!E8+Лист1!F8+Лист1!F7+Лист1!F6>4,1,0)","v":1},{"$f":"IF(Лист1!F7+Лист1!F6+Лист1!E6+Лист1!E7+Лист1!E8+Лист1!F8+Лист1!G8+Лист1!G7+Лист1!G6>4,1,0)","v":1},{"$f":"IF(Лист1!G7+Лист1!G6+Лист1!F6+Лист1!F7+Лист1!F8+Лист1!G8+Лист1!H8+Лист1!H7+Лист1!H6>4,1,0)","v":1},{"$f":"IF(Лист1!H7+Лист1!H6+Лист1!G6+Лист1!G7+Лист1!G8+Лист1!H8+Лист1!I8+Лист1!I7+Лист1!I6>4,1,0)","v":1},{"$f":"IF(Лист1!I7+Лист1!I6+Лист1!H6+Лист1!H7+Лист1!H8+Лист1!I8+Лист1!J8+Лист1!J7+Лист1!J6>4,1,0)","v":1},{"$f":"IF(Лист1!J7+Лист1!J6+Лист1!I6+Лист1!I7+Лист1!I8+Лист1!J8+Лист1!K8+Лист1!K7+Лист1!K6>4,1,0)","v":0},{"$f":"IF(Лист1!K7+Лист1!K6+Лист1!J6+Лист1!J7+Лист1!J8+Лист1!K8+Лист1!L8+Лист1!L7+Лист1!L6>4,1,0)","v":0},{"$f":"IF(Лист1!L7+Лист1!L6+Лист1!K6+Лист1!K7+Лист1!K8+Лист1!L8+Лист1!M8+Лист1!M7+Лист1!M6>4,1,0)","v":0},{"$f":"IF(Лист1!M7+Лист1!M6+Лист1!L6+Лист1!L7+Лист1!L8+Лист1!M8+Лист1!N8+Лист1!N7+Лист1!N6>4,1,0)","v":1},{"$f":"IF(Лист1!N7+Лист1!N6+Лист1!M6+Лист1!M7+Лист1!M8+Лист1!N8+Лист1!O8+Лист1!O7+Лист1!O6>4,1,0)","v":1},{"$f":"IF(Лист1!O7+Лист1!O6+Лист1!N6+Лист1!N7+Лист1!N8+Лист1!O8+Лист1!P8+Лист1!P7+Лист1!P6>4,1,0)","v":1}]
[null,null,{"$f":"IF(Лист1!C8+Лист1!C7+Лист1!B7+Лист1!B8+Лист1!B9+Лист1!C9+Лист1!D9+Лист1!D8+Лист1!D7>4,1,0)","v":0},{"$f":"IF(Лист1!D8+Лист1!D7+Лист1!C7+Лист1!C8+Лист1!C9+Лист1!D9+Лист1!E9+Лист1!E8+Лист1!E7>4,1,0)","v":1},{"$f":"IF(Лист1!E8+Лист1!E7+Лист1!D7+Лист1!D8+Лист1!D9+Лист1!E9+Лист1!F9+Лист1!F8+Лист1!F7>4,1,0)","v":0},{"$f":"IF(Лист1!F8+Лист1!F7+Лист1!E7+Лист1!E8+Лист1!E9+Лист1!F9+Лист1!G9+Лист1!G8+Лист1!G7>4,1,0)","v":1},{"$f":"IF(Лист1!G8+Лист1!G7+Лист1!F7+Лист1!F8+Лист1!F9+Лист1!G9+Лист1!H9+Лист1!H8+Лист1!H7>4,1,0)","v":1},{"$f":"IF(Лист1!H8+Лист1!H7+Лист1!G7+Лист1!G8+Лист1!G9+Лист1!H9+Лист1!I9+Лист1!I8+Лист1!I7>4,1,0)","v":1},{"$f":"IF(Лист1!I8+Лист1!I7+Лист1!H7+Лист1!H8+Лист1!H9+Лист1!I9+Лист1!J9+Лист1!J8+Лист1!J7>4,1,0)","v":1},{"$f":"IF(Лист1!J8+Лист1!J7+Лист1!I7+Лист1!I8+Лист1!I9+Лист1!J9+Лист1!K9+Лист1!K8+Лист1!K7>4,1,0)","v":0},{"$f":"IF(Лист1!K8+Лист1!K7+Лист1!J7+Лист1!J8+Лист1!J9+Лист1!K9+Лист1!L9+Лист1!L8+Лист1!L7>4,1,0)","v":0},{"$f":"IF(Лист1!L8+Лист1!L7+Лист1!K7+Лист1!K8+Лист1!K9+Лист1!L9+Лист1!M9+Лист1!M8+Лист1!M7>4,1,0)","v":1},{"$f":"IF(Лист1!M8+Лист1!M7+Лист1!L7+Лист1!L8+Лист1!L9+Лист1!M9+Лист1!N9+Лист1!N8+Лист1!N7>4,1,0)","v":1},{"$f":"IF(Лист1!N8+Лист1!N7+Лист1!M7+Лист1!M8+Лист1!M9+Лист1!N9+Лист1!O9+Лист1!O8+Лист1!O7>4,1,0)","v":1},{"$f":"IF(Лист1!O8+Лист1!O7+Лист1!N7+Лист1!N8+Лист1!N9+Лист1!O9+Лист1!P9+Лист1!P8+Лист1!P7>4,1,0)","v":1}]
[null,null,{"$f":"IF(Лист1!C9+Лист1!C8+Лист1!B8+Лист1!B9+Лист1!B10+Лист1!C10+Лист1!D10+Лист1!D9+Лист1!D8>4,1,0)","v":0},{"$f":"IF(Лист1!D9+Лист1!D8+Лист1!C8+Лист1!C9+Лист1!C10+Лист1!D10+Лист1!E10+Лист1!E9+Лист1!E8>4,1,0)","v":1},{"$f":"IF(Лист1!E9+Лист1!E8+Лист1!D8+Лист1!D9+Лист1!D10+Лист1!E10+Лист1!F10+Лист1!F9+Лист1!F8>4,1,0)","v":0},{"$f":"IF(Лист1!F9+Лист1!F8+Лист1!E8+Лист1!E9+Лист1!E10+Лист1!F10+Лист1!G10+Лист1!G9+Лист1!G8>4,1,0)","v":1},{"$f":"IF(Лист1!G9+Лист1!G8+Лист1!F8+Лист1!F9+Лист1!F10+Лист1!G10+Лист1!H10+Лист1!H9+Лист1!H8>4,1,0)","v":1},{"$f":"IF(Лист1!H9+Лист1!H8+Лист1!G8+Лист1!G9+Лист1!G10+Лист1!H10+Лист1!I10+Лист1!I9+Лист1!I8>4,1,0)","v":1},{"$f":"IF(Лист1!I9+Лист1!I8+Лист1!H8+Лист1!H9+Лист1!H10+Лист1!I10+Лист1!J10+Лист1!J9+Лист1!J8>4,1,0)","v":1},{"$f":"IF(Лист1!J9+Лист1!J8+Лист1!I8+Лист1!I9+Лист1!I10+Лист1!J10+Лист1!K10+Лист1!K9+Лист1!K8>4,1,0)","v":1},{"$f":"IF(Лист1!K9+Лист1!K8+Лист1!J8+Лист1!J9+Лист1!J10+Лист1!K10+Лист1!L10+Лист1!L9+Лист1!L8>4,1,0)","v":1},{"$f":"IF(Лист1!L9+Лист1!L8+Лист1!K8+Лист1!K9+Лист1!K10+Лист1!L10+Лист1!M10+Лист1!M9+Лист1!M8>4,1,0)","v":1},{"$f":"IF(Лист1!M9+Лист1!M8+Лист1!L8+Лист1!L9+Лист1!L10+Лист1!M10+Лист1!N10+Лист1!N9+Лист1!N8>4,1,0)","v":1},{"$f":"IF(Лист1!N9+Лист1!N8+Лист1!M8+Лист1!M9+Лист1!M10+Лист1!N10+Лист1!O10+Лист1!O9+Лист1!O8>4,1,0)","v":1},{"$f":"IF(Лист1!O9+Лист1!O8+Лист1!N8+Лист1!N9+Лист1!N10+Лист1!O10+Лист1!P10+Лист1!P9+Лист1!P8>4,1,0)","v":0}]
[null,null,{"$f":"IF(Лист1!C10+Лист1!C9+Лист1!B9+Лист1!B10+Лист1!B11+Лист1!C11+Лист1!D11+Лист1!D10+Лист1!D9>4,1,0)","v":0},{"$f":"IF(Лист1!D10+Лист1!D9+Лист1!C9+Лист1!C10+Лист1!C11+Лист1!D11+Лист1!E11+Лист1!E10+Лист1!E9>4,1,0)","v":0},{"$f":"IF(Лист1!E10+Лист1!E9+Лист1!D9+Лист1!D10+Лист1!D11+Лист1!E11+Лист1!F11+Лист1!F10+Лист1!F9>4,1,0)","v":0},{"$f":"IF(Лист1!F10+Лист1!F9+Лист1!E9+Лист1!E10+Лист1!E11+Лист1!F11+Лист1!G11+Лист1!G10+Лист1!G9>4,1,0)","v":1},{"$f":"IF(Лист1!G10+Лист1!G9+Лист1!F9+Лист1!F10+Лист1!F11+Лист1!G11+Лист1!H11+Лист1!H10+Лист1!H9>4,1,0)","v":1},{"$f":"IF(Лист1!H10+Лист1!H9+Лист1!G9+Лист1!G10+Лист1!G11+Лист1!H11+Лист1!I11+Лист1!I10+Лист1!I9>4,1,0)","v":1},{"$f":"IF(Лист1!I10+Лист1!I9+Лист1!H9+Лист1!H10+Лист1!H11+Лист1!I11+Лист1!J11+Лист1!J10+Лист1!J9>4,1,0)","v":1},{"$f":"IF(Лист1!J10+Лист1!J9+Лист1!I9+Лист1!I10+Лист1!I11+Лист1!J11+Лист1!K11+Лист1!K10+Лист1!K9>4,1,0)","v":1},{"$f":"IF(Лист1!K10+Лист1!K9+Лист1!J9+Лист1!J10+Лист1!J11+Лист1!K11+Лист1!L11+Лист1!L10+Лист1!L9>4,1,0)","v":1},{"$f":"IF(Лист1!L10+Лист1!L9+Лист1!K9+Лист1!K10+Лист1!K11+Лист1!L11+Лист1!M11+Лист1!M10+Лист1!M9>4,1,0)","v":1},{"$f":"IF(Лист1!M10+Лист1!M9+Лист1!L9+Лист1!L10+Лист1!L11+Лист1!M11+Лист1!N11+Лист1!N10+Лист1!N9>4,1,0)","v":1},{"$f":"IF(Лист1!N10+Лист1!N9+Лист1!M9+Лист1!M10+Лист1!M11+Лист1!N11+Лист1!O11+Лист1!O10+Лист1!O9>4,1,0)","v":1},{"$f":"IF(Лист1!O10+Лист1!O9+Лист1!N9+Лист1!N10+Лист1!N11+Лист1!O11+Лист1!P11+Лист1!P10+Лист1!P9>4,1,0)","v":1}]
[null,null,{"$f":"IF(Лист1!C11+Лист1!C10+Лист1!B10+Лист1!B11+Лист1!B12+Лист1!C12+Лист1!D12+Лист1!D11+Лист1!D10>4,1,0)","v":0},{"$f":"IF(Лист1!D11+Лист1!D10+Лист1!C10+Лист1!C11+Лист1!C12+Лист1!D12+Лист1!E12+Лист1!E11+Лист1!E10>4,1,0)","v":1},{"$f":"IF(Лист1!E11+Лист1!E10+Лист1!D10+Лист1!D11+Лист1!D12+Лист1!E12+Лист1!F12+Лист1!F11+Лист1!F10>4,1,0)","v":1},{"$f":"IF(Лист1!F11+Лист1!F10+Лист1!E10+Лист1!E11+Лист1!E12+Лист1!F12+Лист1!G12+Лист1!G11+Лист1!G10>4,1,0)","v":1},{"$f":"IF(Лист1!G11+Лист1!G10+Лист1!F10+Лист1!F11+Лист1!F12+Лист1!G12+Лист1!H12+Лист1!H11+Лист1!H10>4,1,0)","v":1},{"$f":"IF(Лист1!H11+Лист1!H10+Лист1!G10+Лист1!G11+Лист1!G12+Лист1!H12+Лист1!I12+Лист1!I11+Лист1!I10>4,1,0)","v":1},{"$f":"IF(Лист1!I11+Лист1!I10+Лист1!H10+Лист1!H11+Лист1!H12+Лист1!I12+Лист1!J12+Лист1!J11+Лист1!J10>4,1,0)","v":1},{"$f":"IF(Лист1!J11+Лист1!J10+Лист1!I10+Лист1!I11+Лист1!I12+Лист1!J12+Лист1!K12+Лист1!K11+Лист1!K10>4,1,0)","v":1},{"$f":"IF(Лист1!K11+Лист1!K10+Лист1!J10+Лист1!J11+Лист1!J12+Лист1!K12+Лист1!L12+Лист1!L11+Лист1!L10>4,1,0)","v":1},{"$f":"IF(Лист1!L11+Лист1!L10+Лист1!K10+Лист1!K11+Лист1!K12+Лист1!L12+Лист1!M12+Лист1!M11+Лист1!M10>4,1,0)","v":1},{"$f":"IF(Лист1!M11+Лист1!M10+Лист1!L10+Лист1!L11+Лист1!L12+Лист1!M12+Лист1!N12+Лист1!N11+Лист1!N10>4,1,0)","v":1},{"$f":"IF(Лист1!N11+Лист1!N10+Лист1!M10+Лист1!M11+Лист1!M12+Лист1!N12+Лист1!O12+Лист1!O11+Лист1!O10>4,1,0)","v":1},{"$f":"IF(Лист1!O11+Лист1!O10+Лист1!N10+Лист1!N11+Лист1!N12+Лист1!O12+Лист1!P12+Лист1!P11+Лист1!P10>4,1,0)","v":1}]
[null,null,{"$f":"IF(Лист1!C12+Лист1!C11+Лист1!B11+Лист1!B12+Лист1!B13+Лист1!C13+Лист1!D13+Лист1!D12+Лист1!D11>4,1,0)","v":0},{"$f":"IF(Лист1!D12+Лист1!D11+Лист1!C11+Лист1!C12+Лист1!C13+Лист1!D13+Лист1!E13+Лист1!E12+Лист1!E11>4,1,0)","v":1},{"$f":"IF(Лист1!E12+Лист1!E11+Лист1!D11+Лист1!D12+Лист1!D13+Лист1!E13+Лист1!F13+Лист1!F12+Лист1!F11>4,1,0)","v":1},{"$f":"IF(Лист1!F12+Лист1!F11+Лист1!E11+Лист1!E12+Лист1!E13+Лист1!F13+Лист1!G13+Лист1!G12+Лист1!G11>4,1,0)","v":1},{"$f":"IF(Лист1!G12+Лист1!G11+Лист1!F11+Лист1!F12+Лист1!F13+Лист1!G13+Лист1!H13+Лист1!H12+Лист1!H11>4,1,0)","v":1},{"$f":"IF(Лист1!H12+Лист1!H11+Лист1!G11+Лист1!G12+Лист1!G13+Лист1!H13+Лист1!I13+Лист1!I12+Лист1!I11>4,1,0)","v":0},{"$f":"IF(Лист1!I12+Лист1!I11+Лист1!H11+Лист1!H12+Лист1!H13+Лист1!I13+Лист1!J13+Лист1!J12+Лист1!J11>4,1,0)","v":0},{"$f":"IF(Лист1!J12+Лист1!J11+Лист1!I11+Лист1!I12+Лист1!I13+Лист1!J13+Лист1!K13+Лист1!K12+Лист1!K11>4,1,0)","v":0},{"$f":"IF(Лист1!K12+Лист1!K11+Лист1!J11+Лист1!J12+Лист1!J13+Лист1!K13+Лист1!L13+Лист1!L12+Лист1!L11>4,1,0)","v":1},{"$f":"IF(Лист1!L12+Лист1!L11+Лист1!K11+Лист1!K12+Лист1!K13+Лист1!L13+Лист1!M13+Лист1!M12+Лист1!M11>4,1,0)","v":1},{"$f":"IF(Лист1!M12+Лист1!M11+Лист1!L11+Лист1!L12+Лист1!L13+Лист1!M13+Лист1!N13+Лист1!N12+Лист1!N11>4,1,0)","v":1},{"$f":"IF(Лист1!N12+Лист1!N11+Лист1!M11+Лист1!M12+Лист1!M13+Лист1!N13+Лист1!O13+Лист1!O12+Лист1!O11>4,1,0)","v":1},{"$f":"IF(Лист1!O12+Лист1!O11+Лист1!N11+Лист1!N12+Лист1!N13+Лист1!O13+Лист1!P13+Лист1!P12+Лист1!P11>4,1,0)","v":1}]
[null,null,{"$f":"IF(Лист1!C13+Лист1!C12+Лист1!B12+Лист1!B13+Лист1!B14+Лист1!C14+Лист1!D14+Лист1!D13+Лист1!D12>4,1,0)","v":0},{"$f":"IF(Лист1!D13+Лист1!D12+Лист1!C12+Лист1!C13+Лист1!C14+Лист1!D14+Лист1!E14+Лист1!E13+Лист1!E12>4,1,0)","v":1},{"$f":"IF(Лист1!E13+Лист1!E12+Лист1!D12+Лист1!D13+Лист1!D14+Лист1!E14+Лист1!F14+Лист1!F13+Лист1!F12>4,1,0)","v":1},{"$f":"IF(Лист1!F13+Лист1!F12+Лист1!E12+Лист1!E13+Лист1!E14+Лист1!F14+Лист1!G14+Лист1!G13+Лист1!G12>4,1,0)","v":1},{"$f":"IF(Лист1!G13+Лист1!G12+Лист1!F12+Лист1!F13+Лист1!F14+Лист1!G14+Лист1!H14+Лист1!H13+Лист1!H12>4,1,0)","v":1},{"$f":"IF(Лист1!H13+Лист1!H12+Лист1!G12+Лист1!G13+Лист1!G14+Лист1!H14+Лист1!I14+Лист1!I13+Лист1!I12>4,1,0)","v":0},{"$f":"IF(Лист1!I13+Лист1!I12+Лист1!H12+Лист1!H13+Лист1!H14+Лист1!I14+Лист1!J14+Лист1!J13+Лист1!J12>4,1,0)","v":1},{"$f":"IF(Лист1!J13+Лист1!J12+Лист1!I12+Лист1!I13+Лист1!I14+Лист1!J14+Лист1!K14+Лист1!K13+Лист1!K12>4,1,0)","v":0},{"$f":"IF(Лист1!K13+Лист1!K12+Лист1!J12+Лист1!J13+Лист1!J14+Лист1!K14+Лист1!L14+Лист1!L13+Лист1!L12>4,1,0)","v":1},{"$f":"IF(Лист1!L13+Лист1!L12+Лист1!K12+Лист1!K13+Лист1!K14+Лист1!L14+Лист1!M14+Лист1!M13+Лист1!M12>4,1,0)","v":1},{"$f":"IF(Лист1!M13+Лист1!M12+Лист1!L12+Лист1!L13+Лист1!L14+Лист1!M14+Лист1!N14+Лист1!N13+Лист1!N12>4,1,0)","v":1},{"$f":"IF(Лист1!N13+Лист1!N12+Лист1!M12+Лист1!M13+Лист1!M14+Лист1!N14+Лист1!O14+Лист1!O13+Лист1!O12>4,1,0)","v":1},{"$f":"IF(Лист1!O13+Лист1!O12+Лист1!N12+Лист1!N13+Лист1!N14+Лист1!O14+Лист1!P14+Лист1!P13+Лист1!P12>4,1,0)","v":0}]
[null,null,{"$f":"IF(Лист1!C14+Лист1!C13+Лист1!B13+Лист1!B14+Лист1!B15+Лист1!C15+Лист1!D15+Лист1!D14+Лист1!D13>4,1,0)","v":0},{"$f":"IF(Лист1!D14+Лист1!D13+Лист1!C13+Лист1!C14+Лист1!C15+Лист1!D15+Лист1!E15+Лист1!E14+Лист1!E13>4,1,0)","v":1},{"$f":"IF(Лист1!E14+Лист1!E13+Лист1!D13+Лист1!D14+Лист1!D15+Лист1!E15+Лист1!F15+Лист1!F14+Лист1!F13>4,1,0)","v":1},{"$f":"IF(Лист1!F14+Лист1!F13+Лист1!E13+Лист1!E14+Лист1!E15+Лист1!F15+Лист1!G15+Лист1!G14+Лист1!G13>4,1,0)","v":1},{"$f":"IF(Лист1!G14+Лист1!G13+Лист1!F13+Лист1!F14+Лист1!F15+Лист1!G15+Лист1!H15+Лист1!H14+Лист1!H13>4,1,0)","v":1},{"$f":"IF(Лист1!H14+Лист1!H13+Лист1!G13+Лист1!G14+Лист1!G15+Лист1!H15+Лист1!I15+Лист1!I14+Лист1!I13>4,1,0)","v":0},{"$f":"IF(Лист1!I14+Лист1!I13+Лист1!H13+Лист1!H14+Лист1!H15+Лист1!I15+Лист1!J15+Лист1!J14+Лист1!J13>4,1,0)","v":0},{"$f":"IF(Лист1!J14+Лист1!J13+Лист1!I13+Лист1!I14+Лист1!I15+Лист1!J15+Лист1!K15+Лист1!K14+Лист1!K13>4,1,0)","v":0},{"$f":"IF(Лист1!K14+Лист1!K13+Лист1!J13+Лист1!J14+Лист1!J15+Лист1!K15+Лист1!L15+Лист1!L14+Лист1!L13>4,1,0)","v":1},{"$f":"IF(Лист1!L14+Лист1!L13+Лист1!K13+Лист1!K14+Лист1!K15+Лист1!L15+Лист1!M15+Лист1!M14+Лист1!M13>4,1,0)","v":1},{"$f":"IF(Лист1!M14+Лист1!M13+Лист1!L13+Лист1!L14+Лист1!L15+Лист1!M15+Лист1!N15+Лист1!N14+Лист1!N13>4,1,0)","v":1},{"$f":"IF(Лист1!N14+Лист1!N13+Лист1!M13+Лист1!M14+Лист1!M15+Лист1!N15+Лист1!O15+Лист1!O14+Лист1!O13>4,1,0)","v":1},{"$f":"IF(Лист1!O14+Лист1!O13+Лист1!N13+Лист1!N14+Лист1!N15+Лист1!O15+Лист1!P15+Лист1!P14+Лист1!P13>4,1,0)","v":1}]
[null,null,{"$f":"IF(Лист1!C15+Лист1!C14+Лист1!B14+Лист1!B15+Лист1!B16+Лист1!C16+Лист1!D16+Лист1!D15+Лист1!D14>4,1,0)","v":0},{"$f":"IF(Лист1!D15+Лист1!D14+Лист1!C14+Лист1!C15+Лист1!C16+Лист1!D16+Лист1!E16+Лист1!E15+Лист1!E14>4,1,0)","v":0},{"$f":"IF(Лист1!E15+Лист1!E14+Лист1!D14+Лист1!D15+Лист1!D16+Лист1!E16+Лист1!F16+Лист1!F15+Лист1!F14>4,1,0)","v":1},{"$f":"IF(Лист1!F15+Лист1!F14+Лист1!E14+Лист1!E15+Лист1!E16+Лист1!F16+Лист1!G16+Лист1!G15+Лист1!G14>4,1,0)","v":1},{"$f":"IF(Лист1!G15+Лист1!G14+Лист1!F14+Лист1!F15+Лист1!F16+Лист1!G16+Лист1!H16+Лист1!H15+Лист1!H14>4,1,0)","v":1},{"$f":"IF(Лист1!H15+Лист1!H14+Лист1!G14+Лист1!G15+Лист1!G16+Лист1!H16+Лист1!I16+Лист1!I15+Лист1!I14>4,1,0)","v":1},{"$f":"IF(Лист1!I15+Лист1!I14+Лист1!H14+Лист1!H15+Лист1!H16+Лист1!I16+Лист1!J16+Лист1!J15+Лист1!J14>4,1,0)","v":0},{"$f":"IF(Лист1!J15+Лист1!J14+Лист1!I14+Лист1!I15+Лист1!I16+Лист1!J16+Лист1!K16+Лист1!K15+Лист1!K14>4,1,0)","v":1},{"$f":"IF(Лист1!K15+Лист1!K14+Лист1!J14+Лист1!J15+Лист1!J16+Лист1!K16+Лист1!L16+Лист1!L15+Лист1!L14>4,1,0)","v":1},{"$f":"IF(Лист1!L15+Лист1!L14+Лист1!K14+Лист1!K15+Лист1!K16+Лист1!L16+Лист1!M16+Лист1!M15+Лист1!M14>4,1,0)","v":1},{"$f":"IF(Лист1!M15+Лист1!M14+Лист1!L14+Лист1!L15+Лист1!L16+Лист1!M16+Лист1!N16+Лист1!N15+Лист1!N14>4,1,0)","v":1},{"$f":"IF(Лист1!N15+Лист1!N14+Лист1!M14+Лист1!M15+Лист1!M16+Лист1!N16+Лист1!O16+Лист1!O15+Лист1!O14>4,1,0)","v":1},{"$f":"IF(Лист1!O15+Лист1!O14+Лист1!N14+Лист1!N15+Лист1!N16+Лист1!O16+Лист1!P16+Лист1!P15+Лист1!P14>4,1,0)","v":1}]
[null,null,{"$f":"IF(Лист1!C16+Лист1!C15+Лист1!B15+Лист1!B16+Лист1!B17+Лист1!C17+Лист1!D17+Лист1!D16+Лист1!D15>4,1,0)","v":1},{"$f":"IF(Лист1!D16+Лист1!D15+Лист1!C15+Лист1!C16+Лист1!C17+Лист1!D17+Лист1!E17+Лист1!E16+Лист1!E15>4,1,0)","v":1},{"$f":"IF(Лист1!E16+Лист1!E15+Лист1!D15+Лист1!D16+Лист1!D17+Лист1!E17+Лист1!F17+Лист1!F16+Лист1!F15>4,1,0)","v":1},{"$f":"IF(Лист1!F16+Лист1!F15+Лист1!E15+Лист1!E16+Лист1!E17+Лист1!F17+Лист1!G17+Лист1!G16+Лист1!G15>4,1,0)","v":1},{"$f":"IF(Лист1!G16+Лист1!G15+Лист1!F15+Лист1!F16+Лист1!F17+Лист1!G17+Лист1!H17+Лист1!H16+Лист1!H15>4,1,0)","v":0},{"$f":"IF(Лист1!H16+Лист1!H15+Лист1!G15+Лист1!G16+Лист1!G17+Лист1!H17+Лист1!I17+Лист1!I16+Лист1!I15>4,1,0)","v":1},{"$f":"IF(Лист1!I16+Лист1!I15+Лист1!H15+Лист1!H16+Лист1!H17+Лист1!I17+Лист1!J17+Лист1!J16+Лист1!J15>4,1,0)","v":0},{"$f":"IF(Лист1!J16+Лист1!J15+Лист1!I15+Лист1!I16+Лист1!I17+Лист1!J17+Лист1!K17+Лист1!K16+Лист1!K15>4,1,0)","v":1},{"$f":"IF(Лист1!K16+Лист1!K15+Лист1!J15+Лист1!J16+Лист1!J17+Лист1!K17+Лист1!L17+Лист1!L16+Лист1!L15>4,1,0)","v":1},{"$f":"IF(Лист1!L16+Лист1!L15+Лист1!K15+Лист1!K16+Лист1!K17+Лист1!L17+Лист1!M17+Лист1!M16+Лист1!M15>4,1,0)","v":1},{"$f":"IF(Лист1!M16+Лист1!M15+Лист1!L15+Лист1!L16+Лист1!L17+Лист1!M17+Лист1!N17+Лист1!N16+Лист1!N15>4,1,0)","v":1},{"$f":"IF(Лист1!N16+Лист1!N15+Лист1!M15+Лист1!M16+Лист1!M17+Лист1!N17+Лист1!O17+Лист1!O16+Лист1!O15>4,1,0)","v":1},{"$f":"IF(Лист1!O16+Лист1!O15+Лист1!N15+Лист1!N16+Лист1!N17+Лист1!O17+Лист1!P17+Лист1!P16+Лист1!P15>4,1,0)","v":1}]
[null,null,{"$f":"IF(Лист1!C17+Лист1!C16+Лист1!B16+Лист1!B17+Лист1!B18+Лист1!C18+Лист1!D18+Лист1!D17+Лист1!D16>4,1,0)","v":1},{"$f":"IF(Лист1!D17+Лист1!D16+Лист1!C16+Лист1!C17+Лист1!C18+Лист1!D18+Лист1!E18+Лист1!E17+Лист1!E16>4,1,0)","v":1},{"$f":"IF(Лист1!E17+Лист1!E16+Лист1!D16+Лист1!D17+Лист1!D18+Лист1!E18+Лист1!F18+Лист1!F17+Лист1!F16>4,1,0)","v":1},{"$f":"IF(Лист1!F17+Лист1!F16+Лист1!E16+Лист1!E17+Лист1!E18+Лист1!F18+Лист1!G18+Лист1!G17+Лист1!G16>4,1,0)","v":1},{"$f":"IF(Лист1!G17+Лист1!G16+Лист1!F16+Лист1!F17+Лист1!F18+Лист1!G18+Лист1!H18+Лист1!H17+Лист1!H16>4,1,0)","v":1},{"$f":"IF(Лист1!H17+Лист1!H16+Лист1!G16+Лист1!G17+Лист1!G18+Лист1!H18+Лист1!I18+Лист1!I17+Лист1!I16>4,1,0)","v":1},{"$f":"IF(Лист1!I17+Лист1!I16+Лист1!H16+Лист1!H17+Лист1!H18+Лист1!I18+Лист1!J18+Лист1!J17+Лист1!J16>4,1,0)","v":0},{"$f":"IF(Лист1!J17+Лист1!J16+Лист1!I16+Лист1!I17+Лист1!I18+Лист1!J18+Лист1!K18+Лист1!K17+Лист1!K16>4,1,0)","v":1},{"$f":"IF(Лист1!K17+Лист1!K16+Лист1!J16+Лист1!J17+Лист1!J18+Лист1!K18+Лист1!L18+Лист1!L17+Лист1!L16>4,1,0)","v":0},{"$f":"IF(Лист1!L17+Лист1!L16+Лист1!K16+Лист1!K17+Лист1!K18+Лист1!L18+Лист1!M18+Лист1!M17+Лист1!M16>4,1,0)","v":0},{"$f":"IF(Лист1!M17+Лист1!M16+Лист1!L16+Лист1!L17+Лист1!L18+Лист1!M18+Лист1!N18+Лист1!N17+Лист1!N16>4,1,0)","v":0},{"$f":"IF(Лист1!N17+Лист1!N16+Лист1!M16+Лист1!M17+Лист1!M18+Лист1!N18+Лист1!O18+Лист1!O17+Лист1!O16>4,1,0)","v":1},{"$f":"IF(Лист1!O17+Лист1!O16+Лист1!N16+Лист1!N17+Лист1!N18+Лист1!O18+Лист1!P18+Лист1!P17+Лист1!P16>4,1,0)","v":1}]
[null,null,{"$f":"IF(Лист1!C18+Лист1!C17+Лист1!B17+Лист1!B18+Лист1!B19+Лист1!C19+Лист1!D19+Лист1!D18+Лист1!D17>4,1,0)","v":0},{"$f":"IF(Лист1!D18+Лист1!D17+Лист1!C17+Лист1!C18+Лист1!C19+Лист1!D19+Лист1!E19+Лист1!E18+Лист1!E17>4,1,0)","v":1},{"$f":"IF(Лист1!E18+Лист1!E17+Лист1!D17+Лист1!D18+Лист1!D19+Лист1!E19+Лист1!F19+Лист1!F18+Лист1!F17>4,1,0)","v":1},{"$f":"IF(Лист1!F18+Лист1!F17+Лист1!E17+Лист1!E18+Лист1!E19+Лист1!F19+Лист1!G19+Лист1!G18+Лист1!G17>4,1,0)","v":1},{"$f":"IF(Лист1!G18+Лист1!G17+Лист1!F17+Лист1!F18+Лист1!F19+Лист1!G19+Лист1!H19+Лист1!H18+Лист1!H17>4,1,0)","v":1},{"$f":"IF(Лист1!H18+Лист1!H17+Лист1!G17+Лист1!G18+Лист1!G19+Лист1!H19+Лист1!I19+Лист1!I18+Лист1!I17>4,1,0)","v":1},{"$f":"IF(Лист1!I18+Лист1!I17+Лист1!H17+Лист1!H18+Лист1!H19+Лист1!I19+Лист1!J19+Лист1!J18+Лист1!J17>4,1,0)","v":1},{"$f":"IF(Лист1!J18+Лист1!J17+Лист1!I17+Лист1!I18+Лист1!I19+Лист1!J19+Лист1!K19+Лист1!K18+Лист1!K17>4,1,0)","v":1},{"$f":"IF(Лист1!K18+Лист1!K17+Лист1!J17+Лист1!J18+Лист1!J19+Лист1!K19+Лист1!L19+Лист1!L18+Лист1!L17>4,1,0)","v":1},{"$f":"IF(Лист1!L18+Лист1!L17+Лист1!K17+Лист1!K18+Лист1!K19+Лист1!L19+Лист1!M19+Лист1!M18+Лист1!M17>4,1,0)","v":1},{"$f":"IF(Лист1!M18+Лист1!M17+Лист1!L17+Лист1!L18+Лист1!L19+Лист1!M19+Лист1!N19+Лист1!N18+Лист1!N17>4,1,0)","v":1},{"$f":"IF(Лист1!N18+Лист1!N17+Лист1!M17+Лист1!M18+Лист1!M19+Лист1!N19+Лист1!O19+Лист1!O18+Лист1!O17>4,1,0)","v":1},{"$f":"IF(Лист1!O18+Лист1!O17+Лист1!N17+Лист1!N18+Лист1!N19+Лист1!O19+Лист1!P19+Лист1!P18+Лист1!P17>4,1,0)","v":1}]
[null,null,{"$f":"IF(Лист1!C19+Лист1!C18+Лист1!B18+Лист1!B19+Лист1!B20+Лист1!C20+Лист1!D20+Лист1!D19+Лист1!D18>4,1,0)","v":0},{"$f":"IF(Лист1!D19+Лист1!D18+Лист1!C18+Лист1!C19+Лист1!C20+Лист1!D20+Лист1!E20+Лист1!E19+Лист1!E18>4,1,0)","v":1},{"$f":"IF(Лист1!E19+Лист1!E18+Лист1!D18+Лист1!D19+Лист1!D20+Лист1!E20+Лист1!F20+Лист1!F19+Лист1!F18>4,1,0)","v":1},{"$f":"IF(Лист1!F19+Лист1!F18+Лист1!E18+Лист1!E19+Лист1!E20+Лист1!F20+Лист1!G20+Лист1!G19+Лист1!G18>4,1,0)","v":1},{"$f":"IF(Лист1!G19+Лист1!G18+Лист1!F18+Лист1!F19+Лист1!F20+Лист1!G20+Лист1!H20+Лист1!H19+Лист1!H18>4,1,0)","v":1},{"$f":"IF(Лист1!H19+Лист1!H18+Лист1!G18+Лист1!G19+Лист1!G20+Лист1!H20+Лист1!I20+Лист1!I19+Лист1!I18>4,1,0)","v":1},{"$f":"IF(Лист1!I19+Лист1!I18+Лист1!H18+Лист1!H19+Лист1!H20+Лист1!I20+Лист1!J20+Лист1!J19+Лист1!J18>4,1,0)","v":1},{"$f":"IF(Лист1!J19+Лист1!J18+Лист1!I18+Лист1!I19+Лист1!I20+Лист1!J20+Лист1!K20+Лист1!K19+Лист1!K18>4,1,0)","v":1},{"$f":"IF(Лист1!K19+Лист1!K18+Лист1!J18+Лист1!J19+Лист1!J20+Лист1!K20+Лист1!L20+Лист1!L19+Лист1!L18>4,1,0)","v":1},{"$f":"IF(Лист1!L19+Лист1!L18+Лист1!K18+Лист1!K19+Лист1!K20+Лист1!L20+Лист1!M20+Лист1!M19+Лист1!M18>4,1,0)","v":1},{"$f":"IF(Лист1!M19+Лист1!M18+Лист1!L18+Лист1!L19+Лист1!L20+Лист1!M20+Лист1!N20+Лист1!N19+Лист1!N18>4,1,0)","v":1},{"$f":"IF(Лист1!N19+Лист1!N18+Лист1!M18+Лист1!M19+Лист1!M20+Лист1!N20+Лист1!O20+Лист1!O19+Лист1!O18>4,1,0)","v":1},{"$f":"IF(Лист1!O19+Лист1!O18+Лист1!N18+Лист1!N19+Лист1!N20+Лист1!O20+Лист1!P20+Лист1!P19+Лист1!P18>4,1,0)","v":1}]
[null,null,{"$f":"IF(Лист1!C20+Лист1!C19+Лист1!B19+Лист1!B20+Лист1!B21+Лист1!C21+Лист1!D21+Лист1!D20+Лист1!D19>4,1,0)","v":1},{"$f":"IF(Лист1!D20+Лист1!D19+Лист1!C19+Лист1!C20+Лист1!C21+Лист1!D21+Лист1!E21+Лист1!E20+Лист1!E19>4,1,0)","v":1},{"$f":"IF(Лист1!E20+Лист1!E19+Лист1!D19+Лист1!D20+Лист1!D21+Лист1!E21+Лист1!F21+Лист1!F20+Лист1!F19>4,1,0)","v":1},{"$f":"IF(Лист1!F20+Лист1!F19+Лист1!E19+Лист1!E20+Лист1!E21+Лист1!F21+Лист1!G21+Лист1!G20+Лист1!G19>4,1,0)","v":0},{"$f":"IF(Лист1!G20+Лист1!G19+Лист1!F19+Лист1!F20+Лист1!F21+Лист1!G21+Лист1!H21+Лист1!H20+Лист1!H19>4,1,0)","v":0},{"$f":"IF(Лист1!H20+Лист1!H19+Лист1!G19+Лист1!G20+Лист1!G21+Лист1!H21+Лист1!I21+Лист1!I20+Лист1!I19>4,1,0)","v":1},{"$f":"IF(Лист1!I20+Лист1!I19+Лист1!H19+Лист1!H20+Лист1!H21+Лист1!I21+Лист1!J21+Лист1!J20+Лист1!J19>4,1,0)","v":1},{"$f":"IF(Лист1!J20+Лист1!J19+Лист1!I19+Лист1!I20+Лист1!I21+Лист1!J21+Лист1!K21+Лист1!K20+Лист1!K19>4,1,0)","v":1},{"$f":"IF(Лист1!K20+Лист1!K19+Лист1!J19+Лист1!J20+Лист1!J21+Лист1!K21+Лист1!L21+Лист1!L20+Лист1!L19>4,1,0)","v":1},{"$f":"IF(Лист1!L20+Лист1!L19+Лист1!K19+Лист1!K20+Лист1!K21+Лист1!L21+Лист1!M21+Лист1!M20+Лист1!M19>4,1,0)","v":1},{"$f":"IF(Лист1!M20+Лист1!M19+Лист1!L19+Лист1!L20+Лист1!L21+Лист1!M21+Лист1!N21+Лист1!N20+Лист1!N19>4,1,0)","v":1},{"$f":"IF(Лист1!N20+Лист1!N19+Лист1!M19+Лист1!M20+Лист1!M21+Лист1!N21+Лист1!O21+Лист1!O20+Лист1!O19>4,1,0)","v":1},{"$f":"IF(Лист1!O20+Лист1!O19+Лист1!N19+Лист1!N20+Лист1!N21+Лист1!O21+Лист1!P21+Лист1!P20+Лист1!P19>4,1,0)","v":1}]
[null,null,{"$f":"IF(Лист1!C21+Лист1!C20+Лист1!B20+Лист1!B21+Лист1!B22+Лист1!C22+Лист1!D22+Лист1!D21+Лист1!D20>4,1,0)","v":1},{"$f":"IF(Лист1!D21+Лист1!D20+Лист1!C20+Лист1!C21+Лист1!C22+Лист1!D22+Лист1!E22+Лист1!E21+Лист1!E20>4,1,0)","v":1},{"$f":"IF(Лист1!E21+Лист1!E20+Лист1!D20+Лист1!D21+Лист1!D22+Лист1!E22+Лист1!F22+Лист1!F21+Лист1!F20>4,1,0)","v":1},{"$f":"IF(Лист1!F21+Лист1!F20+Лист1!E20+Лист1!E21+Лист1!E22+Лист1!F22+Лист1!G22+Лист1!G21+Лист1!G20>4,1,0)","v":0},{"$f":"IF(Лист1!G21+Лист1!G20+Лист1!F20+Лист1!F21+Лист1!F22+Лист1!G22+Лист1!H22+Лист1!H21+Лист1!H20>4,1,0)","v":1},{"$f":"IF(Лист1!H21+Лист1!H20+Лист1!G20+Лист1!G21+Лист1!G22+Лист1!H22+Лист1!I22+Лист1!I21+Лист1!I20>4,1,0)","v":1},{"$f":"IF(Лист1!I21+Лист1!I20+Лист1!H20+Лист1!H21+Лист1!H22+Лист1!I22+Лист1!J22+Лист1!J21+Лист1!J20>4,1,0)","v":1},{"$f":"IF(Лист1!J21+Лист1!J20+Лист1!I20+Лист1!I21+Лист1!I22+Лист1!J22+Лист1!K22+Лист1!K21+Лист1!K20>4,1,0)","v":0},{"$f":"IF(Лист1!K21+Лист1!K20+Лист1!J20+Лист1!J21+Лист1!J22+Лист1!K22+Лист1!L22+Лист1!L21+Лист1!L20>4,1,0)","v":0},{"$f":"IF(Лист1!L21+Лист1!L20+Лист1!K20+Лист1!K21+Лист1!K22+Лист1!L22+Лист1!M22+Лист1!M21+Лист1!M20>4,1,0)","v":0},{"$f":"IF(Лист1!M21+Лист1!M20+Лист1!L20+Лист1!L21+Лист1!L22+Лист1!M22+Лист1!N22+Лист1!N21+Лист1!N20>4,1,0)","v":0},{"$f":"IF(Лист1!N21+Лист1!N20+Лист1!M20+Лист1!M21+Лист1!M22+Лист1!N22+Лист1!O22+Лист1!O21+Лист1!O20>4,1,0)","v":1},{"$f":"IF(Лист1!O21+Лист1!O20+Лист1!N20+Лист1!N21+Лист1!N22+Лист1!O22+Лист1!P22+Лист1!P21+Лист1!P20>4,1,0)","v":1}]
[null,null,{"$f":"IF(Лист1!C22+Лист1!C21+Лист1!B21+Лист1!B22+Лист1!B23+Лист1!C23+Лист1!D23+Лист1!D22+Лист1!D21>4,1,0)","v":1},{"$f":"IF(Лист1!D22+Лист1!D21+Лист1!C21+Лист1!C22+Лист1!C23+Лист1!D23+Лист1!E23+Лист1!E22+Лист1!E21>4,1,0)","v":1},{"$f":"IF(Лист1!E22+Лист1!E21+Лист1!D21+Лист1!D22+Лист1!D23+Лист1!E23+Лист1!F23+Лист1!F22+Лист1!F21>4,1,0)","v":1},{"$f":"IF(Лист1!F22+Лист1!F21+Лист1!E21+Лист1!E22+Лист1!E23+Лист1!F23+Лист1!G23+Лист1!G22+Лист1!G21>4,1,0)","v":0},{"$f":"IF(Лист1!G22+Лист1!G21+Лист1!F21+Лист1!F22+Лист1!F23+Лист1!G23+Лист1!H23+Лист1!H22+Лист1!H21>4,1,0)","v":0},{"$f":"IF(Лист1!H22+Лист1!H21+Лист1!G21+Лист1!G22+Лист1!G23+Лист1!H23+Лист1!I23+Лист1!I22+Лист1!I21>4,1,0)","v":1},{"$f":"IF(Лист1!I22+Лист1!I21+Лист1!H21+Лист1!H22+Лист1!H23+Лист1!I23+Лист1!J23+Лист1!J22+Лист1!J21>4,1,0)","v":1},{"$f":"IF(Лист1!J22+Лист1!J21+Лист1!I21+Лист1!I22+Лист1!I23+Лист1!J23+Лист1!K23+Лист1!K22+Лист1!K21>4,1,0)","v":1},{"$f":"IF(Лист1!K22+Лист1!K21+Лист1!J21+Лист1!J22+Лист1!J23+Лист1!K23+Лист1!L23+Лист1!L22+Лист1!L21>4,1,0)","v":1},{"$f":"IF(Лист1!L22+Лист1!L21+Лист1!K21+Лист1!K22+Лист1!K23+Лист1!L23+Лист1!M23+Лист1!M22+Лист1!M21>4,1,0)","v":0},{"$f":"IF(Лист1!M22+Лист1!M21+Лист1!L21+Лист1!L22+Лист1!L23+Лист1!M23+Лист1!N23+Лист1!N22+Лист1!N21>4,1,0)","v":1},{"$f":"IF(Лист1!N22+Лист1!N21+Лист1!M21+Лист1!M22+Лист1!M23+Лист1!N23+Лист1!O23+Лист1!O22+Лист1!O21>4,1,0)","v":1},{"$f":"IF(Лист1!O22+Лист1!O21+Лист1!N21+Лист1!N22+Лист1!N23+Лист1!O23+Лист1!P23+Лист1!P22+Лист1!P21>4,1,0)","v":0}]
[null,null,{"$f":"IF(Лист1!C23+Лист1!C22+Лист1!B22+Лист1!B23+Лист1!B24+Лист1!C24+Лист1!D24+Лист1!D23+Лист1!D22>4,1,0)","v":1},{"$f":"IF(Лист1!D23+Лист1!D22+Лист1!C22+Лист1!C23+Лист1!C24+Лист1!D24+Лист1!E24+Лист1!E23+Лист1!E22>4,1,0)","v":1},{"$f":"IF(Лист1!E23+Лист1!E22+Лист1!D22+Лист1!D23+Лист1!D24+Лист1!E24+Лист1!F24+Лист1!F23+Лист1!F22>4,1,0)","v":1},{"$f":"IF(Лист1!F23+Лист1!F22+Лист1!E22+Лист1!E23+Лист1!E24+Лист1!F24+Лист1!G24+Лист1!G23+Лист1!G22>4,1,0)","v":1},{"$f":"IF(Лист1!G23+Лист1!G22+Лист1!F22+Лист1!F23+Лист1!F24+Лист1!G24+Лист1!H24+Лист1!H23+Лист1!H22>4,1,0)","v":1},{"$f":"IF(Лист1!H23+Лист1!H22+Лист1!G22+Лист1!G23+Лист1!G24+Лист1!H24+Лист1!I24+Лист1!I23+Лист1!I22>4,1,0)","v":1},{"$f":"IF(Лист1!I23+Лист1!I22+Лист1!H22+Лист1!H23+Лист1!H24+Лист1!I24+Лист1!J24+Лист1!J23+Лист1!J22>4,1,0)","v":1},{"$f":"IF(Лист1!J23+Лист1!J22+Лист1!I22+Лист1!I23+Лист1!I24+Лист1!J24+Лист1!K24+Лист1!K23+Лист1!K22>4,1,0)","v":1},{"$f":"IF(Лист1!K23+Лист1!K22+Лист1!J22+Лист1!J23+Лист1!J24+Лист1!K24+Лист1!L24+Лист1!L23+Лист1!L22>4,1,0)","v":1},{"$f":"IF(Лист1!L23+Лист1!L22+Лист1!K22+Лист1!K23+Лист1!K24+Лист1!L24+Лист1!M24+Лист1!M23+Лист1!M22>4,1,0)","v":1},{"$f":"IF(Лист1!M23+Лист1!M22+Лист1!L22+Лист1!L23+Лист1!L24+Лист1!M24+Лист1!N24+Лист1!N23+Лист1!N22>4,1,0)","v":1},{"$f":"IF(Лист1!N23+Лист1!N22+Лист1!M22+Лист1!M23+Лист1!M24+Лист1!N24+Лист1!O24+Лист1!O23+Лист1!O22>4,1,0)","v":1},{"$f":"IF(Лист1!O23+Лист1!O22+Лист1!N22+Лист1!N23+Лист1!N24+Лист1!O24+Лист1!P24+Лист1!P23+Лист1!P22>4,1,0)","v":0}]
[null,null,{"$f":"IF(Лист1!C24+Лист1!C23+Лист1!B23+Лист1!B24+Лист1!B25+Лист1!C25+Лист1!D25+Лист1!D24+Лист1!D23>4,1,0)","v":0},{"$f":"IF(Лист1!D24+Лист1!D23+Лист1!C23+Лист1!C24+Лист1!C25+Лист1!D25+Лист1!E25+Лист1!E24+Лист1!E23>4,1,0)","v":1},{"$f":"IF(Лист1!E24+Лист1!E23+Лист1!D23+Лист1!D24+Лист1!D25+Лист1!E25+Лист1!F25+Лист1!F24+Лист1!F23>4,1,0)","v":1},{"$f":"IF(Лист1!F24+Лист1!F23+Лист1!E23+Лист1!E24+Лист1!E25+Лист1!F25+Лист1!G25+Лист1!G24+Лист1!G23>4,1,0)","v":1},{"$f":"IF(Лист1!G24+Лист1!G23+Лист1!F23+Лист1!F24+Лист1!F25+Лист1!G25+Лист1!H25+Лист1!H24+Лист1!H23>4,1,0)","v":0},{"$f":"IF(Лист1!H24+Лист1!H23+Лист1!G23+Лист1!G24+Лист1!G25+Лист1!H25+Лист1!I25+Лист1!I24+Лист1!I23>4,1,0)","v":1},{"$f":"IF(Лист1!I24+Лист1!I23+Лист1!H23+Лист1!H24+Лист1!H25+Лист1!I25+Лист1!J25+Лист1!J24+Лист1!J23>4,1,0)","v":1},{"$f":"IF(Лист1!J24+Лист1!J23+Лист1!I23+Лист1!I24+Лист1!I25+Лист1!J25+Лист1!K25+Лист1!K24+Лист1!K23>4,1,0)","v":1},{"$f":"IF(Лист1!K24+Лист1!K23+Лист1!J23+Лист1!J24+Лист1!J25+Лист1!K25+Лист1!L25+Лист1!L24+Лист1!L23>4,1,0)","v":1},{"$f":"IF(Лист1!L24+Лист1!L23+Лист1!K23+Лист1!K24+Лист1!K25+Лист1!L25+Лист1!M25+Лист1!M24+Лист1!M23>4,1,0)","v":0},{"$f":"IF(Лист1!M24+Лист1!M23+Лист1!L23+Лист1!L24+Лист1!L25+Лист1!M25+Лист1!N25+Лист1!N24+Лист1!N23>4,1,0)","v":0},{"$f":"IF(Лист1!N24+Лист1!N23+Лист1!M23+Лист1!M24+Лист1!M25+Лист1!N25+Лист1!O25+Лист1!O24+Лист1!O23>4,1,0)","v":0},{"$f":"IF(Лист1!O24+Лист1!O23+Лист1!N23+Лист1!N24+Лист1!N25+Лист1!O25+Лист1!P25+Лист1!P24+Лист1!P23>4,1,0)","v":0}]
[null,null,{"$f":"IF(Лист1!C25+Лист1!C24+Лист1!B24+Лист1!B25+Лист1!B26+Лист1!C26+Лист1!D26+Лист1!D25+Лист1!D24>4,1,0)","v":0},{"$f":"IF(Лист1!D25+Лист1!D24+Лист1!C24+Лист1!C25+Лист1!C26+Лист1!D26+Лист1!E26+Лист1!E25+Лист1!E24>4,1,0)","v":1},{"$f":"IF(Лист1!E25+Лист1!E24+Лист1!D24+Лист1!D25+Лист1!D26+Лист1!E26+Лист1!F26+Лист1!F25+Лист1!F24>4,1,0)","v":1},{"$f":"IF(Лист1!F25+Лист1!F24+Лист1!E24+Лист1!E25+Лист1!E26+Лист1!F26+Лист1!G26+Лист1!G25+Лист1!G24>4,1,0)","v":1},{"$f":"IF(Лист1!G25+Лист1!G24+Лист1!F24+Лист1!F25+Лист1!F26+Лист1!G26+Лист1!H26+Лист1!H25+Лист1!H24>4,1,0)","v":0},{"$f":"IF(Лист1!H25+Лист1!H24+Лист1!G24+Лист1!G25+Лист1!G26+Лист1!H26+Лист1!I26+Лист1!I25+Лист1!I24>4,1,0)","v":1},{"$f":"IF(Лист1!I25+Лист1!I24+Лист1!H24+Лист1!H25+Лист1!H26+Лист1!I26+Лист1!J26+Лист1!J25+Лист1!J24>4,1,0)","v":1},{"$f":"IF(Лист1!J25+Лист1!J24+Лист1!I24+Лист1!I25+Лист1!I26+Лист1!J26+Лист1!K26+Лист1!K25+Лист1!K24>4,1,0)","v":1},{"$f":"IF(Лист1!K25+Лист1!K24+Лист1!J24+Лист1!J25+Лист1!J26+Лист1!K26+Лист1!L26+Лист1!L25+Лист1!L24>4,1,0)","v":0},{"$f":"IF(Лист1!L25+Лист1!L24+Лист1!K24+Лист1!K25+Лист1!K26+Лист1!L26+Лист1!M26+Лист1!M25+Лист1!M24>4,1,0)","v":0},{"$f":"IF(Лист1!M25+Лист1!M24+Лист1!L24+Лист1!L25+Лист1!L26+Лист1!M26+Лист1!N26+Лист1!N25+Лист1!N24>4,1,0)","v":0},{"$f":"IF(Лист1!N25+Лист1!N24+Лист1!M24+Лист1!M25+Лист1!M26+Лист1!N26+Лист1!O26+Лист1!O25+Лист1!O24>4,1,0)","v":0},{"$f":"IF(Лист1!O25+Лист1!O24+Лист1!N24+Лист1!N25+Лист1!N26+Лист1!O26+Лист1!P26+Лист1!P25+Лист1!P24>4,1,0)","v":1}]
[]
[]
[]
[null,null,1,null,null,1,null,1,null,null,1,null,null,1,null,1]
[null,null,0,1,0,1,0,1,1,0,1,0,1,0,1]
[null,null,1,0,0,0,1,0,1,1,0,1,1,1,1,1]
[null,null,1,1,1,1,1,0,0,0,1,1,0,1,0]
[null,1,3,0,0,1,1,0,1,1,0,1,1,0,1,1]
[null,null,1,1,1,1,3,1,1,0,0,1,0,1,1]
[null,null,0,0,1,0,0,1,0,1,0,0,1,0,1]
[null,1,1,0,0,0,1,1,0,0,1,1,1,1,1]
[null,null,1,1,1,1,1,1,1,1,1,3,1,0,1]
[null,null,0,0,0,0,1,0,0,1,1,0,1,1,1,1]
[null,null,0,1,1,1,0,1,0,1,1,0,1,1,0]
[null,null,1,1,3,1,0,1,0,0,0,3,1,1,0,1]
[null,null,0,1,0,1,1,1,0,1,0,1,1,0,1]
[null,null,0,1,1,0,1,0,0,1,1,1,1,1,3]
[null,null,0,1,0,0,1,0,1,0,1,0,1,0,1]
[null,1,1,1,1,1,1,0,1,1,0,0,0,1,1,1]
[null,null,1,0,1,3,1,1,0,0,1,0,1,0,1]
[null,null,0,0,1,0,0,1,1,1,1,3,1,1,1]
[null,null,1,1,1,1,0,1,0,1,0,0,1,0,1,1]
[null,null,1,3,0,0,1,0,1,0,1,0,0,1,1]
[null,1,1,1,0,0,1,1,0,1,0,1,1,0,1]
[null,null,0,1,1,0,1,0,1,1,0,1,0,1,0]
[null,null,1,1,0,1,1,0,1,0,1,0,1,1,0]
[null,null,1,0,1,1,0,0,3,1,1,0,0,0,1,1]
[null,null,0,1,1,1,0,0,1,0,1,0,0,1,0,1]
[null,null,null,null,null,1,null,1,null,null,null,1,null,1]

{"sheet":"Лист3","index":2,"n_rows":28,"n_cols":22,"rows_kept":28,"cut":false,"hidden":false,"merged":[[4,21,8,26]]}
[]
[]
[null,null,null,1,null,null,1,null,1,null,null,1,null,null,1,null,1]
[null,null,null,0,1,0,1,0,1,1,0,1,0,1,0,1]
[null,null,null,1,0,0,0,1,0,1,1,0,1,1,1,1,1,null,null,null,null,"Сравнительная таблица - Анализ процесса без агентов внешнего влияния. В исходной таблице (лист 1) 10 агентов внешнего влияния заменены на пять \"единиц\" и 5 \"нулей\". Вспомогательные таблицы - на листе 4."]
[null,null,null,1,1,1,1,1,0,0,0,1,1,0,1,0]
[null,null,1,0,0,0,1,1,0,1,1,0,1,1,0,1,1]
[null,null,null,1,1,1,1,1,1,1,0,0,1,0,1,1]
[null,null,null,0,0,1,0,0,1,0,1,0,0,1,0,1]
[null,null,1,1,0,0,0,1,1,0,0,1,1,1,1,1]
[null,null,null,1,1,1,1,1,1,1,1,1,1,1,0,1]
[null,null,null,0,0,0,0,1,0,0,1,1,0,1,1,1,1]
[null,null,null,0,1,1,1,0,1,0,1,1,0,1,1,0]
[null,null,null,1,1,1,1,0,1,0,0,0,0,1,1,0,1]
[null,null,null,0,1,0,1,1,1,0,1,0,1,1,0,1]
[null,null,null,0,1,1,0,1,0,0,1,1,1,1,1,1]
[null,null,null,0,1,0,0,1,0,1,0,1,0,1,0,1]
[null,null,1,1,1,1,1,1,0,1,1,0,0,0,1,1,1]
[null,null,null,1,0,1,0,1,1,0,0,1,0,1,0,1]
[null,null,null,0,0,1,0,0,1,1,1,1,0,1,1,1]
[null,null,null,1,1,1,1,0,1,0,1,0,0,1,0,1,1]
[null,null,null,1,1,0,0,1,0,1,0,1,0,0,1,1]
[null,null,1,1,1,0,0,1,1,0,1,0,1,1,0,1]
[null,null,null,0,1,1,0,1,0,1,1,0,1,0,1,0]
[null,null,null,1,1,0,1,1,0,1,0,1,0,1,1,0]
[null,null,null,1,0,1,1,0,0,0,1,1,0,0,0,1,1]
[null,null,null,0,1,1,1,0,0,1,0,1,0,0,1,0,1]
[null,null,null,null,null,null,1,null,1,null,null,null,1,null,1]

{"sheet":"Лист4","index":3,"n_rows":55,"n_cols":16,"rows_kept":55,"cut":false,"hidden":false,"merged":[]}
[]
[]
[null,null,{"$f":"IF(Лист3!D4+Лист3!D3+Лист3!C3+Лист3!C4+Лист3!C5+Лист3!D5+Лист3!E5+Лист3!E4+Лист3!E3>4,1,0)","v":0},{"$f":"IF(Лист3!E4+Лист3!E3+Лист3!D3+Лист3!D4+Лист3!D5+Лист3!E5+Лист3!F5+Лист3!F4+Лист3!F3>4,1,0)","v":0},{"$f":"IF(Лист3!F4+Лист3!F3+Лист3!E3+Лист3!E4+Лист3!E5+Лист3!F5+Лист3!G5+Лист3!G4+Лист3!G3>4,1,0)","v":0},{"$f":"IF(Лист3!G4+Лист3!G3+Лист3!F3+Лист3!F4+Лист3!F5+Лист3!G5+Лист3!H5+Лист3!H4+Лист3!H3>4,1,0)","v":0},{"$f":"IF(Лист3!H4+Лист3!H3+Лист3!G3+Лист3!G4+Лист3!G5+Лист3!H5+Лист3!I5+Лист3!I4+Лист3!I3>4,1,0)","v":1},{"$f":"IF(Лист3!I4+Лист3!I3+Лист3!H3+Лист3!H4+Лист3!H5+Лист3!I5+Лист3!J5+Лист3!J4+Лист3!J3>4,1,0)","v":1},{"$f":"IF(Лист3!J4+Лист3!J3+Лист3!I3+Лист3!I4+Лист3!I5+Лист3!J5+Лист3!K5+Лист3!K4+Лист3!K3>4,1,0)","v":1},{"$f":"IF(Лист3!K4+Лист3!K3+Лист3!J3+Лист3!J4+Лист3!J5+Лист3!K5+Лист3!L5+Лист3!L4+Лист3!L3>4,1,0)","v":1},{"$f":"IF(Лист3!L4+Лист3!L3+Лист3!K3+Лист3!K4+Лист3!K5+Лист3!L5+Лист3!M5+Лист3!M4+Лист3!M3>4,1,0)","v":0},{"$f":"IF(Лист3!M4+Лист3!M3+Лист3!L3+Лист3!L4+Лист3!L5+Лист3!M5+Лист3!N5+Лист3!N4+Лист3!N3>4,1,0)","v":1},{"$f":"IF(Лист3!N4+Лист3!N3+Лист3!M3+Лист3!M4+Лист3!M5+Лист3!N5+Лист3!O5+Лист3!O4+Лист3!O3>4,1,0)","v":1},{"$f":"IF(Лист3!O4+Лист3!O3+Лист3!N3+Лист3!N4+Лист3!N5+Лист3!O5+Лист3!P5+Лист3!P4+Лист3!P3>4,1,0)","v":1},{"$f":"IF(Лист3!P4+Лист3!P3+Лист3!O3+Лист3!O4+Лист3!O5+Лист3!P5+Лист3!Q5+Лист3!Q4+Лист3!Q3>4,1,0)","v":1}]
[null,null,{"$f":"IF(Лист3!D5+Лист3!D4+Лист3!C4+Лист3!C5+Лист3!C6+Лист3!D6+Лист3!E6+Лист3!E5+Лист3!E4>4,1,0)","v":0},{"$f":"IF(Лист3!E5+Лист3!E4+Лист3!D4+Лист3!D5+Лист3!D6+Лист3!E6+Лист3!F6+Лист3!F5+Лист3!F4>4,1,0)","v":1},{"$f":"IF(Лист3!F5+Лист3!F4+Лист3!E4+Лист3!E5+Лист3!E6+Лист3!F6+Лист3!G6+Лист3!G5+Лист3!G4>4,1,0)","v":1},{"$f":"IF(Лист3!G5+Лист3!G4+Лист3!F4+Лист3!F5+Лист3!F6+Лист3!G6+Лист3!H6+Лист3!H5+Лист3!H4>4,1,0)","v":1},{"$f":"IF(Лист3!H5+Лист3!H4+Лист3!G4+Лист3!G5+Лист3!G6+Лист3!H6+Лист3!I6+Лист3!I5+Лист3!I4>4,1,0)","v":1},{"$f":"IF(Лист3!I5+Лист3!I4+Лист3!H4+Лист3!H5+Лист3!H6+Лист3!I6+Лист3!J6+Лист3!J5+Лист3!J4>4,1,0)","v":1},{"$f":"IF(Лист3!J5+Лист3!J4+Лист3!I4+Лист3!I5+Лист3!I6+Лист3!J6+Лист3!K6+Лист3!K5+Лист3!K4>4,1,0)","v":0},{"$f":"IF(Лист3!K5+Лист3!K4+Лист3!J4+Лист3!J5+Лист3!J6+Лист3!K6+Лист3!L6+Лист3!L5+Лист3!L4>4,1,0)","v":1},{"$f":"IF(Лист3!L5+Лист3!L4+Лист3!K4+Лист3!K5+Лист3!K6+Лист3!L6+Лист3!M6+Лист3!M5+Лист3!M4>4,1,0)","v":1},{"$f":"IF(Лист3!M5+Лист3!M4+Лист3!L4+Лист3!L5+Лист3!L6+Лист3!M6+Лист3!N6+Лист3!N5+Лист3!N4>4,1,0)","v":1},{"$f":"IF(Лист3!N5+Лист3!N4+Лист3!M4+Лист3!M5+Лист3!M6+Лист3!N6+Лист3!O6+Лист3!O5+Лист3!O4>4,1,0)","v":1},{"$f":"IF(Лист3!O5+Лист3!O4+Лист3!N4+Лист3!N5+Лист3!N6+Лист3!O6+Лист3!P6+Лист3!P5+Лист3!P4>4,1,0)","v":1},{"$f":"IF(Лист3!P5+Лист3!P4+Лист3!O4+Лист3!O5+Лист3!O6+Лист3!P6+Лист3!Q6+Лист3!Q5+Лист3!Q4>4,1,0)","v":1}]
[null,null,{"$f":"IF(Лист3!D6+Лист3!D5+Лист3!C5+Лист3!C6+Лист3!C7+Лист3!D7+Лист3!E7+Лист3!E6+Лист3!E5>4,1,0)","v":0},{"$f":"IF(Лист3!E6+Лист3!E5+Лист3!D5+Лист3!D6+Лист3!D7+Лист3!E7+Лист3!F7+Лист3!F6+Лист3!F5>4,1,0)","v":0},{"$f":"IF(Лист3!F6+Лист3!F5+Лист3!E5+Лист3!E6+Лист3!E7+Лист3!F7+Лист3!G7+Лист3!G6+Лист3!G5>4,1,0)","v":0},{"$f":"IF(Лист3!G6+Лист3!G5+Лист3!F5+Лист3!F6+Лист3!F7+Лист3!G7+Лист3!H7+Лист3!H6+Лист3!H5>4,1,0)","v":1},{"$f":"IF(Лист3!H6+Лист3!H5+Лист3!G5+Лист3!G6+Лист3!G7+Лист3!H7+Лист3!I7+Лист3!I6+Лист3!I5>4,1,0)","v":1},{"$f":"IF(Лист3!I6+Лист3!I5+Лист3!H5+Лист3!H6+Лист3!H7+Лист3!I7+Лист3!J7+Лист3!J6+Лист3!J5>4,1,0)","v":1},{"$f":"IF(Лист3!J6+Лист3!J5+Лист3!I5+Лист3!I6+Лист3!I7+Лист3!J7+Лист3!K7+Лист3!K6+Лист3!K5>4,1,0)","v":0},{"$f":"IF(Лист3!K6+Лист3!K5+Лист3!J5+Лист3!J6+Лист3!J7+Лист3!K7+Лист3!L7+Лист3!L6+Лист3!L5>4,1,0)","v":1},{"$f":"IF(Лист3!L6+Лист3!L5+Лист3!K5+Лист3!K6+Лист3!K7+Лист3!L7+Лист3!M7+Лист3!M6+Лист3!M5>4,1,0)","v":1},{"$f":"IF(Лист3!M6+Лист3!M5+Лист3!L5+Лист3!L6+Лист3!L7+Лист3!M7+Лист3!N7+Лист3!N6+Лист3!N5>4,1,0)","v":1},{"$f":"IF(Лист3!N6+Лист3!N5+Лист3!M5+Лист3!M6+Лист3!M7+Лист3!N7+Лист3!O7+Лист3!O6+Лист3!O5>4,1,0)","v":1},{"$f":"IF(Лист3!O6+Лист3!O5+Лист3!N5+Лист3!N6+Лист3!N7+Лист3!O7+Лист3!P7+Лист3!P6+Лист3!P5>4,1,0)","v":1},{"$f":"IF(Лист3!P6+Лист3!P5+Лист3!O5+Лист3!O6+Лист3!O7+Лист3!P7+Лист3!Q7+Лист3!Q6+Лист3!Q5>4,1,0)","v":1}]
[null,null,{"$f":"IF(Лист3!D7+Лист3!D6+Лист3!C6+Лист3!C7+Лист3!C8+Лист3!D8+Лист3!E8+Лист3!E7+Лист3!E6>4,1,0)","v":1},{"$f":"IF(Лист3!E7+Лист3!E6+Лист3!D6+Лист3!D7+Лист3!D8+Лист3!E8+Лист3!F8+Лист3!F7+Лист3!F6>4,1,0)","v":1},{"$f":"IF(Лист3!F7+Лист3!F6+Лист3!E6+Лист3!E7+Лист3!E8+Лист3!F8+Лист3!G8+Лист3!G7+Лист3!G6>4,1,0)","v":1},{"$f":"IF(Лист3!G7+Лист3!G6+Лист3!F6+Лист3!F7+Лист3!F8+Лист3!G8+Лист3!H8+Лист3!H7+Лист3!H6>4,1,0)","v":1},{"$f":"IF(Лист3!H7+Лист3!H6+Лист3!G6+Лист3!G7+Лист3!G8+Лист3!H8+Лист3!I8+Лист3!I7+Лист3!I6>4,1,0)","v":1},{"$f":"IF(Лист3!I7+Лист3!I6+Лист3!H6+Лист3!H7+Лист3!H8+Лист3!I8+Лист3!J8+Лист3!J7+Лист3!J6>4,1,0)","v":1},{"$f":"IF(Лист3!J7+Лист3!J6+Лист3!I6+Лист3!I7+Лист3!I8+Лист3!J8+Лист3!K8+Лист3!K7+Лист3!K6>4,1,0)","v":0},{"$f":"IF(Лист3!K7+Лист3!K6+Лист3!J6+Лист3!J7+Лист3!J8+Лист3!K8+Лист3!L8+Лист3!L7+Лист3!L6>4,1,0)","v":0},{"$f":"IF(Лист3!L7+Лист3!L6+Лист3!K6+Лист3!K7+Лист3!K8+Лист3!L8+Лист3!M8+Лист3!M7+Лист3!M6>4,1,0)","v":1},{"$f":"IF(Лист3!M7+Лист3!M6+Лист3!L6+Лист3!L7+Лист3!L8+Лист3!M8+Лист3!N8+Лист3!N7+Лист3!N6>4,1,0)","v":1},{"$f":"IF(Лист3!N7+Лист3!N6+Лист3!M6+Лист3!M7+Лист3!M8+Лист3!N8+Лист3!O8+Лист3!O7+Лист3!O6>4,1,0)","v":1},{"$f":"IF(Лист3!O7+Лист3!O6+Лист3!N6+Лист3!N7+Лист3!N8+Лист3!O8+Лист3!P8+Лист3!P7+Лист3!P6>4,1,0)","v":1},{"$f":"IF(Лист3!P7+Лист3!P6+Лист3!O6+Лист3!O7+Лист3!O8+Лист3!P8+Лист3!Q8+Лист3!Q7+Лист3!Q6>4,1,0)","v":1}]
[null,null,{"$f":"IF(Лист3!D8+Лист3!D7+Лист3!C7+Лист3!C8+Лист3!C9+Лист3!D9+Лист3!E9+Лист3!E8+Лист3!E7>4,1,0)","v":0},{"$f":"IF(Лист3!E8+Лист3!E7+Лист3!D7+Лист3!D8+Лист3!D9+Лист3!E9+Лист3!F9+Лист3!F8+Лист3!F7>4,1,0)","v":0},{"$f":"IF(Лист3!F8+Лист3!F7+Лист3!E7+Лист3!E8+Лист3!E9+Лист3!F9+Лист3!G9+Лист3!G8+Лист3!G7>4,1,0)","v":1},{"$f":"IF(Лист3!G8+Лист3!G7+Лист3!F7+Лист3!F8+Лист3!F9+Лист3!G9+Лист3!H9+Лист3!H8+Лист3!H7>4,1,0)","v":1},{"$f":"IF(Лист3!H8+Лист3!H7+Лист3!G7+Лист3!G8+Лист3!G9+Лист3!H9+Лист3!I9+Лист3!I8+Лист3!I7>4,1,0)","v":1},{"$f":"IF(Лист3!I8+Лист3!I7+Лист3!H7+Лист3!H8+Лист3!H9+Лист3!I9+Лист3!J9+Лист3!J8+Лист3!J7>4,1,0)","v":1},{"$f":"IF(Лист3!J8+Лист3!J7+Лист3!I7+Лист3!I8+Лист3!I9+Лист3!J9+Лист3!K9+Лист3!K8+Лист3!K7>4,1,0)","v":1},{"$f":"IF(Лист3!K8+Лист3!K7+Лист3!J7+Лист3!J8+Лист3!J9+Лист3!K9+Лист3!L9+Лист3!L8+Лист3!L7>4,1,0)","v":0},{"$f":"IF(Лист3!L8+Лист3!L7+Лист3!K7+Лист3!K8+Лист3!K9+Лист3!L9+Лист3!M9+Лист3!M8+Лист3!M7>4,1,0)","v":0},{"$f":"IF(Лист3!M8+Лист3!M7+Лист3!L7+Лист3!L8+Лист3!L9+Лист3!M9+Лист3!N9+Лист3!N8+Лист3!N7>4,1,0)","v":0},{"$f":"IF(Лист3!N8+Лист3!N7+Лист3!M7+Лист3!M8+Лист3!M9+Лист3!N9+Лист3!O9+Лист3!O8+Лист3!O7>4,1,0)","v":1},{"$f":"IF(Лист3!O8+Лист3!O7+Лист3!N7+Лист3!N8+Лист3!N9+Лист3!O9+Лист3!P9+Лист3!P8+Лист3!P7>4,1,0)","v":1},{"$f":"IF(Лист3!P8+Лист3!P7+Лист3!O7+Лист3!O8+Лист3!O9+Лист3!P9+Лист3!Q9+Лист3!Q8+Лист3!Q7>4,1,0)","v":1}]
[null,null,{"$f":"IF(Лист3!D9+Лист3!D8+Лист3!C8+Лист3!C9+Лист3!C10+Лист3!D10+Лист3!E10+Лист3!E9+Лист3!E8>4,1,0)","v":0},{"$f":"IF(Лист3!E9+Лист3!E8+Лист3!D8+Лист3!D9+Лист3!D10+Лист3!E10+Лист3!F10+Лист3!F9+Лист3!F8>4,1,0)","v":1},{"$f":"IF(Лист3!F9+Лист3!F8+Лист3!E8+Лист3!E9+Лист3!E10+Лист3!F10+Лист3!G10+Лист3!G9+Лист3!G8>4,1,0)","v":0},{"$f":"IF(Лист3!G9+Лист3!G8+Лист3!F8+Лист3!F9+Лист3!F10+Лист3!G10+Лист3!H10+Лист3!H9+Лист3!H8>4,1,0)","v":1},{"$f":"IF(Лист3!H9+Лист3!H8+Лист3!G8+Лист3!G9+Лист3!G10+Лист3!H10+Лист3!I10+Лист3!I9+Лист3!I8>4,1,0)","v":1},{"$f":"IF(Лист3!I9+Лист3!I8+Лист3!H8+Лист3!H9+Лист3!H10+Лист3!I10+Лист3!J10+Лист3!J9+Лист3!J8>4,1,0)","v":1},{"$f":"IF(Лист3!J9+Лист3!J8+Лист3!I8+Лист3!I9+Лист3!I10+Лист3!J10+Лист3!K10+Лист3!K9+Лист3!K8>4,1,0)","v":1},{"$f":"IF(Лист3!K9+Лист3!K8+Лист3!J8+Лист3!J9+Лист3!J10+Лист3!K10+Лист3!L10+Лист3!L9+Лист3!L8>4,1,0)","v":0},{"$f":"IF(Лист3!L9+Лист3!L8+Лист3!K8+Лист3!K9+Лист3!K10+Лист3!L10+Лист3!M10+Лист3!M9+Лист3!M8>4,1,0)","v":0},{"$f":"IF(Лист3!M9+Лист3!M8+Лист3!L8+Лист3!L9+Лист3!L10+Лист3!M10+Лист3!N10+Лист3!N9+Лист3!N8>4,1,0)","v":1},{"$f":"IF(Лист3!N9+Лист3!N8+Лист3!M8+Лист3!M9+Лист3!M10+Лист3!N10+Лист3!O10+Лист3!O9+Лист3!O8>4,1,0)","v":1},{"$f":"IF(Лист3!O9+Лист3!O8+Лист3!N8+Лист3!N9+Лист3!N10+Лист3!O10+Лист3!P10+Лист3!P9+Лист3!P8>4,1,0)","v":1},{"$f":"IF(Лист3!P9+Лист3!P8+Лист3!O8+Лист3!O9+Лист3!O10+Лист3!P10+Лист3!Q10+Лист3!Q9+Лист3!Q8>4,1,0)","v":1}]
[null,null,{"$f":"IF(Лист3!D10+Лист3!D9+Лист3!C9+Лист3!C10+Лист3!C11+Лист3!D11+Лист3!E11+Лист3!E10+Лист3!E9>4,1,0)","v":0},{"$f":"IF(Лист3!E10+Лист3!E9+Лист3!D9+Лист3!D10+Лист3!D11+Лист3!E11+Лист3!F11+Лист3!F10+Лист3!F9>4,1,0)","v":1},{"$f":"IF(Лист3!F10+Лист3!F9+Лист3!E9+Лист3!E10+Лист3!E11+Лист3!F11+Лист3!G11+Лист3!G10+Лист3!G9>4,1,0)","v":0},{"$f":"IF(Лист3!G10+Лист3!G9+Лист3!F9+Лист3!F10+Лист3!F11+Лист3!G11+Лист3!H11+Лист3!H10+Лист3!H9>4,1,0)","v":1},{"$f":"IF(Лист3!H10+Лист3!H9+Лист3!G9+Лист3!G10+Лист3!G11+Лист3!H11+Лист3!I11+Лист3!I10+Лист3!I9>4,1,0)","v":1},{"$f":"IF(Лист3!I10+Лист3!I9+Лист3!H9+Лист3!H10+Лист3!H11+Лист3!I11+Лист3!J11+Лист3!J10+Лист3!J9>4,1,0)","v":1},{"$f":"IF(Лист3!J10+Лист3!J9+Лист3!I9+Лист3!I10+Лист3!I11+Лист3!J11+Лист3!K11+Лист3!K10+Лист3!K9>4,1,0)","v":1},{"$f":"IF(Лист3!K10+Лист3!K9+Лист3!J9+Лист3!J10+Лист3!J11+Лист3!K11+Лист3!L11+Лист3!L10+Лист3!L9>4,1,0)","v":1},{"$f":"IF(Лист3!L10+Лист3!L9+Лист3!K9+Лист3!K10+Лист3!K11+Лист3!L11+Лист3!M11+Лист3!M10+Лист3!M9>4,1,0)","v":1},{"$f":"IF(Лист3!M10+Лист3!M9+Лист3!L9+Лист3!L10+Лист3!L11+Лист3!M11+Лист3!N11+Лист3!N10+Лист3!N9>4,1,0)","v":1},{"$f":"IF(Лист3!N10+Лист3!N9+Лист3!M9+Лист3!M10+Лист3!M11+Лист3!N11+Лист3!O11+Лист3!O10+Лист3!O9>4,1,0)","v":1},{"$f":"IF(Лист3!O10+Лист3!O9+Лист3!N9+Лист3!N10+Лист3!N11+Лист3!O11+Лист3!P11+Лист3!P10+Лист3!P9>4,1,0)","v":1},{"$f":"IF(Лист3!P10+Лист3!P9+Лист3!O9+Лист3!O10+Лист3!O11+Лист3!P11+Лист3!Q11+Лист3!Q10+Лист3!Q9>4,1,0)","v":0}]
[null,null,{"$f":"IF(Лист3!D11+Лист3!D10+Лист3!C10+Лист3!C11+Лист3!C12+Лист3!D12+Лист3!E12+Лист3!E11+Лист3!E10>4,1,0)","v":0},{"$f":"IF(Лист3!E11+Лист3!E10+Лист3!D10+Лист3!D11+Лист3!D12+Лист3!E12+Лист3!F12+Лист3!F11+Лист3!F10>4,1,0)","v":0},{"$f":"IF(Лист3!F11+Лист3!F10+Лист3!E10+Лист3!E11+Лист3!E12+Лист3!F12+Лист3!G12+Лист3!G11+Лист3!G10>4,1,0)","v":0},{"$f":"IF(Лист3!G11+Лист3!G10+Лист3!F10+Лист3!F11+Лист3!F12+Лист3!G12+Лист3!H12+Лист3!H11+Лист3!H10>4,1,0)","v":1},{"$f":"IF(Лист3!H11+Лист3!H10+Лист3!G10+Лист3!G11+Лист3!G12+Лист3!H12+Лист3!I12+Лист3!I11+Лист3!I10>4,1,0)","v":1},{"$f":"IF(Лист3!I11+Лист3!I10+Лист3!H10+Лист3!H11+Лист3!H12+Лист3!I12+Лист3!J12+Лист3!J11+Лист3!J10>4,1,0)","v":1},{"$f":"IF(Лист3!J11+Лист3!J10+Лист3!I10+Лист3!I11+Лист3!I12+Лист3!J12+Лист3!K12+Лист3!K11+Лист3!K10>4,1,0)","v":1},{"$f":"IF(Лист3!K11+Лист3!K10+Лист3!J10+Лист3!J11+Лист3!J12+Лист3!K12+Лист3!L12+Лист3!L11+Лист3!L10>4,1,0)","v":1},{"$f":"IF(Лист3!L11+Лист3!L10+Лист3!K10+Лист3!K11+Лист3!K12+Лист3!L12+Лист3!M12+Лист3!M11+Лист3!M10>4,1,0)","v":1},{"$f":"IF(Лист3!M11+Лист3!M10+Лист3!L10+Лист3!L11+Лист3!L12+Лист3!M12+Лист3!N12+Лист3!N11+Лист3!N10>4,1,0)","v":1},{"$f":"IF(Лист3!N11+Лист3!N10+Лист3!M10+Лист3!M11+Лист3!M12+Лист3!N12+Лист3!O12+Лист3!O11+Лист3!O10>4,1,0)","v":1},{"$f":"IF(Лист3!O11+Лист3!O10+Лист3!N10+Лист3!N11+Лист3!N12+Лист3!O12+Лист3!P12+Лист3!P11+Лист3!P10>4,1,0)","v":1},{"$f":"IF(Лист3!P11+Лист3!P10+Лист3!O10+Лист3!O11+Лист3!O12+Лист3!P12+Лист3!Q12+Лист3!Q11+Лист3!Q10>4,1,0)","v":1}]
[null,null,{"$f":"IF(Лист3!D12+Лист3!D11+Лист3!C11+Лист3!C12+Лист3!C13+Лист3!D13+Лист3!E13+Лист3!E12+Лист3!E11>4,1,0)","v":0},{"$f":"IF(Лист3!E12+Лист3!E11+Лист3!D11+Лист3!D12+Лист3!D13+Лист3!E13+Лист3!F13+Лист3!F12+Лист3!F11>4,1,0)","v":1},{"$f":"IF(Лист3!F12+Лист3!F11+Лист3!E11+Лист3!E12+Лист3!E13+Лист3!F13+Лист3!G13+Лист3!G12+Лист3!G11>4,1,0)","v":1},{"$f":"IF(Лист3!G12+Лист3!G11+Лист3!F11+Лист3!F12+Лист3!F13+Лист3!G13+Лист3!H13+Лист3!H12+Лист3!H11>4,1,0)","v":1},{"$f":"IF(Лист3!H12+Лист3!H11+Лист3!G11+Лист3!G12+Лист3!G13+Лист3!H13+Лист3!I13+Лист3!I12+Лист3!I11>4,1,0)","v":1},{"$f":"IF(Лист3!I12+Лист3!I11+Лист3!H11+Лист3!H12+Лист3!H13+Лист3!I13+Лист3!J13+Лист3!J12+Лист3!J11>4,1,0)","v":1},{"$f":"IF(Лист3!J12+Лист3!J11+Лист3!I11+Лист3!I12+Лист3!I13+Лист3!J13+Лист3!K13+Лист3!K12+Лист3!K11>4,1,0)","v":1},{"$f":"IF(Лист3!K12+Лист3!K11+Лист3!J11+Лист3!J12+Лист3!J13+Лист3!K13+Лист3!L13+Лист3!L12+Лист3!L11>4,1,0)","v":1},{"$f":"IF(Лист3!L12+Лист3!L11+Лист3!K11+Лист3!K12+Лист3!K13+Лист3!L13+Лист3!M13+Лист3!M12+Лист3!M11>4,1,0)","v":1},{"$f":"IF(Лист3!M12+Лист3!M11+Лист3!L11+Лист3!L12+Лист3!L13+Лист3!M13+Лист3!N13+Лист3!N12+Лист3!N11>4,1,0)","v":1},{"$f":"IF(Лист3!N12+Лист3!N11+Лист3!M11+Лист3!M12+Лист3!M13+Лист3!N13+Лист3!O13+Лист3!O12+Лист3!O11>4,1,0)","v":1},{"$f":"IF(Лист3!O12+Лист3!O11+Лист3!N11+Лист3!N12+Лист3!N13+Лист3!O13+Лист3!P13+Лист3!P12+Лист3!P11>4,1,0)","v":1},{"$f":"IF(Лист3!P12+Лист3!P11+Лист3!O11+Лист3!O12+Лист3!O13+Лист3!P13+Лист3!Q13+Лист3!Q12+Лист3!Q11>4,1,0)","v":1}]
[null,null,{"$f":"IF(Лист3!D13+Лист3!D12+Лист3!C12+Лист3!C13+Лист3!C14+Лист3!D14+Лист3!E14+Лист3!E13+Лист3!E12>4,1,0)","v":0},{"$f":"IF(Лист3!E13+Лист3!E12+Лист3!D12+Лист3!D13+Лист3!D14+Лист3!E14+Лист3!F14+Лист3!F13+Лист3!F12>4,1,0)","v":1},{"$f":"IF(Лист3!F13+Лист3!F12+Лист3!E12+Лист3!E13+Лист3!E14+Лист3!F14+Лист3!G14+Лист3!G13+Лист3!G12>4,1,0)","v":1},{"$f":"IF(Лист3!G13+Лист3!G12+Лист3!F12+Лист3!F13+Лист3!F14+Лист3!G14+Лист3!H14+Лист3!H13+Лист3!H12>4,1,0)","v":1},{"$f":"IF(Лист3!H13+Лист3!H12+Лист3!G12+Лист3!G13+Лист3!G14+Лист3!H14+Лист3!I14+Лист3!I13+Лист3!I12>4,1,0)","v":1},{"$f":"IF(Лист3!I13+Лист3!I12+Лист3!H12+Лист3!H13+Лист3!H14+Лист3!I14+Лист3!J14+Лист3!J13+Лист3!J12>4,1,0)","v":0},{"$f":"IF(Лист3!J13+Лист3!J12+Лист3!I12+Лист3!I13+Лист3!I14+Лист3!J14+Лист3!K14+Лист3!K13+Лист3!K12>4,1,0)","v":0},{"$f":"IF(Лист3!K13+Лист3!K12+Лист3!J12+Лист3!J13+Лист3!J14+Лист3!K14+Лист3!L14+Лист3!L13+Лист3!L12>4,1,0)","v":0},{"$f":"IF(Лист3!L13+Лист3!L12+Лист3!K12+Лист3!K13+Лист3!K14+Лист3!L14+Лист3!M14+Лист3!M13+Лист3!M12>4,1,0)","v":0},{"$f":"IF(Лист3!M13+Лист3!M12+Лист3!L12+Лист3!L13+Лист3!L14+Лист3!M14+Лист3!N14+Лист3!N13+Лист3!N12>4,1,0)","v":1},{"$f":"IF(Лист3!N13+Лист3!N12+Лист3!M12+Лист3!M13+Лист3!M14+Лист3!N14+Лист3!O14+Лист3!O13+Лист3!O12>4,1,0)","v":1},{"$f":"IF(Лист3!O13+Лист3!O12+Лист3!N12+Лист3!N13+Лист3!N14+Лист3!O14+Лист3!P14+Лист3!P13+Лист3!P12>4,1,0)","v":1},{"$f":"IF(Лист3!P13+Лист3!P12+Лист3!O12+Лист3!O13+Лист3!O14+Лист3!P14+Лист3!Q14+Лист3!Q13+Лист3!Q12>4,1,0)","v":1}]
[null,null,{"$f":"IF(Лист3!D14+Лист3!D13+Лист3!C13+Лист3!C14+Лист3!C15+Лист3!D15+Лист3!E15+Лист3!E14+Лист3!E13>4,1,0)","v":0},{"$f":"IF(Лист3!E14+Лист3!E13+Лист3!D13+Лист3!D14+Лист3!D15+Лист3!E15+Лист3!F15+Лист3!F14+Лист3!F13>4,1,0)","v":1},{"$f":"IF(Лист3!F14+Лист3!F13+Лист3!E13+Лист3!E14+Лист3!E15+Лист3!F15+Лист3!G15+Лист3!G14+Лист3!G13>4,1,0)","v":1},{"$f":"IF(Лист3!G14+Лист3!G13+Лист3!F13+Лист3!F14+Лист3!F15+Лист3!G15+Лист3!H15+Лист3!H14+Лист3!H13>4,1,0)","v":1},{"$f":"IF(Лист3!H14+Лист3!H13+Лист3!G13+Лист3!G14+Лист3!G15+Лист3!H15+Лист3!I15+Лист3!I14+Лист3!I13>4,1,0)","v":1},{"$f":"IF(Лист3!I14+Лист3!I13+Лист3!H13+Лист3!H14+Лист3!H15+Лист3!I15+Лист3!J15+Лист3!J14+Лист3!J13>4,1,0)","v":0},{"$f":"IF(Лист3!J14+Лист3!J13+Лист3!I13+Лист3!I14+Лист3!I15+Лист3!J15+Лист3!K15+Лист3!K14+Лист3!K13>4,1,0)","v":1},{"$f":"IF(Лист3!K14+Лист3!K13+Лист3!J13+Лист3!J14+Лист3!J15+Лист3!K15+Лист3!L15+Лист3!L14+Лист3!L13>4,1,0)","v":0},{"$f":"IF(Лист3!L14+Лист3!L13+Лист3!K13+Лист3!K14+Лист3!K15+Лист3!L15+Лист3!M15+Лист3!M14+Лист3!M13>4,1,0)","v":0},{"$f":"IF(Лист3!M14+Лист3!M13+Лист3!L13+Лист3!L14+Лист3!L15+Лист3!M15+Лист3!N15+Лист3!N14+Лист3!N13>4,1,0)","v":1},{"$f":"IF(Лист3!N14+Лист3!N13+Лист3!M13+Лист3!M14+Лист3!M15+Лист3!N15+Лист3!O15+Лист3!O14+Лист3!O13>4,1,0)","v":1},{"$f":"IF(Лист3!O14+Лист3!O13+Лист3!N13+Лист3!N14+Лист3!N15+Лист3!O15+Лист3!P15+Лист3!P14+Лист3!P13>4,1,0)","v":1},{"$f":"IF(Лист3!P14+Лист3!P13+Лист3!O13+Лист3!O14+Лист3!O15+Лист3!P15+Лист3!Q15+Лист3!Q14+Лист3!Q13>4,1,0)","v":0}]
[null,null,{"$f":"IF(Лист3!D15+Лист3!D14+Лист3!C14+Лист3!C15+Лист3!C16+Лист3!D16+Лист3!E16+Лист3!E15+Лист3!E14>4,1,0)","v":0},{"$f":"IF(Лист3!E15+Лист3!E14+Лист3!D14+Лист3!D15+Лист3!D16+Лист3!E16+Лист3!F16+Лист3!F15+Лист3!F14>4,1,0)","v":1},{"$f":"IF(Лист3!F15+Лист3!F14+Лист3!E14+Лист3!E15+Лист3!E16+Лист3!F16+Лист3!G16+Лист3!G15+Лист3!G14>4,1,0)","v":1},{"$f":"IF(Лист3!G15+Лист3!G14+Лист3!F14+Лист3!F15+Лист3!F16+Лист3!G16+Лист3!H16+Лист3!H15+Лист3!H14>4,1,0)","v":1},{"$f":"IF(Лист3!H15+Лист3!H14+Лист3!G14+Лист3!G15+Лист3!G16+Лист3!H16+Лист3!I16+Лист3!I15+Лист3!I14>4,1,0)","v":1},{"$f":"IF(Лист3!I15+Лист3!I14+Лист3!H14+Лист3!H15+Лист3!H16+Лист3!I16+Лист3!J16+Лист3!J15+Лист3!J14>4,1,0)","v":0},{"$f":"IF(Лист3!J15+Лист3!J14+Лист3!I14+Лист3!I15+Лист3!I16+Лист3!J16+Лист3!K16+Лист3!K15+Лист3!K14>4,1,0)","v":0},{"$f":"IF(Лист3!K15+Лист3!K14+Лист3!J14+Лист3!J15+Лист3!J16+Лист3!K16+Лист3!L16+Лист3!L15+Лист3!L14>4,1,0)","v":0},{"$f":"IF(Лист3!L15+Лист3!L14+Лист3!K14+Лист3!K15+Лист3!K16+Лист3!L16+Лист3!M16+Лист3!M15+Лист3!M14>4,1,0)","v":1},{"$f":"IF(Лист3!M15+Лист3!M14+Лист3!L14+Лист3!L15+Лист3!L16+Лист3!M16+Лист3!N16+Лист3!N15+Лист3!N14>4,1,0)","v":1},{"$f":"IF(Лист3!N15+Лист3!N14+Лист3!M14+Лист3!M15+Лист3!M16+Лист3!N16+Лист3!O16+Лист3!O15+Лист3!O14>4,1,0)","v":1},{"$f":"IF(Лист3!O15+Лист3!O14+Лист3!N14+Лист3!N15+Лист3!N16+Лист3!O16+Лист3!P16+Лист3!P15+Лист3!P14>4,1,0)","v":1},{"$f":"IF(Лист3!P15+Лист3!P14+Лист3!O14+Лист3!O15+Лист3!O16+Лист3!P16+Лист3!Q16+Лист3!Q15+Лист3!Q14>4,1,0)","v":1}]
[null,null,{"$f":"IF(Лист3!D16+Лист3!D15+Лист3!C15+Лист3!C16+Лист3!C17+Лист3!D17+Лист3!E17+Лист3!E16+Лист3!E15>4,1,0)","v":0},{"$f":"IF(Лист3!E16+Лист3!E15+Лист3!D15+Лист3!D16+Лист3!D17+Лист3!E17+Лист3!F17+Лист3!F16+Лист3!F15>4,1,0)","v":0},{"$f":"IF(Лист3!F16+Лист3!F15+Лист3!E15+Лист3!E16+Лист3!E17+Лист3!F17+Лист3!G17+Лист3!G16+Лист3!G15>4,1,0)","v":1},{"$f":"IF(Лист3!G16+Лист3!G15+Лист3!F15+Лист3!F16+Лист3!F17+Лист3!G17+Лист3!H17+Лист3!H16+Лист3!H15>4,1,0)","v":1},{"$f":"IF(Лист3!H16+Лист3!H15+Лист3!G15+Лист3!G16+Лист3!G17+Лист3!H17+Лист3!I17+Лист3!I16+Лист3!I15>4,1,0)","v":1},{"$f":"IF(Лист3!I16+Лист3!I15+Лист3!H15+Лист3!H16+Лист3!H17+Лист3!I17+Лист3!J17+Лист3!J16+Лист3!J15>4,1,0)","v":1},{"$f":"IF(Лист3!J16+Лист3!J15+Лист3!I15+Лист3!I16+Лист3!I17+Лист3!J17+Лист3!K17+Лист3!K16+Лист3!K15>4,1,0)","v":0},{"$f":"IF(Лист3!K16+Лист3!K15+Лист3!J15+Лист3!J16+Лист3!J17+Лист3!K17+Лист3!L17+Лист3!L16+Лист3!L15>4,1,0)","v":1},{"$f":"IF(Лист3!L16+Лист3!L15+Лист3!K15+Лист3!K16+Лист3!K17+Лист3!L17+Лист3!M17+Лист3!M16+Лист3!M15>4,1,0)","v":1},{"$f":"IF(Лист3!M16+Лист3!M15+Лист3!L15+Лист3!L16+Лист3!L17+Лист3!M17+Лист3!N17+Лист3!N16+Лист3!N15>4,1,0)","v":1},{"$f":"IF(Лист3!N16+Лист3!N15+Лист3!M15+Лист3!M16+Лист3!M17+Лист3!N17+Лист3!O17+Лист3!O16+Лист3!O15>4,1,0)","v":1},{"$f":"IF(Лист3!O16+Лист3!O15+Лист3!N15+Лист3!N16+Лист3!N17+Лист3!O17+Лист3!P17+Лист3!P16+Лист3!P15>4,1,0)","v":1},{"$f":"IF(Лист3!P16+Лист3!P15+Лист3!O15+Лист3!O16+Лист3!O17+Лист3!P17+Лист3!Q17+Лист3!Q16+Лист3!Q15>4,1,0)","v":0}]
[null,null,{"$f":"IF(Лист3!D17+Лист3!D16+Лист3!C16+Лист3!C17+Лист3!C18+Лист3!D18+Лист3!E18+Лист3!E17+Лист3!E16>4,1,0)","v":1},{"$f":"IF(Лист3!E17+Лист3!E16+Лист3!D16+Лист3!D17+Лист3!D18+Лист3!E18+Лист3!F18+Лист3!F17+Лист3!F16>4,1,0)","v":1},{"$f":"IF(Лист3!F17+Лист3!F16+Лист3!E16+Лист3!E17+Лист3!E18+Лист3!F18+Лист3!G18+Лист3!G17+Лист3!G16>4,1,0)","v":1},{"$f":"IF(Лист3!G17+Лист3!G16+Лист3!F16+Лист3!F17+Лист3!F18+Лист3!G18+Лист3!H18+Лист3!H17+Лист3!H16>4,1,0)","v":1},{"$f":"IF(Лист3!H17+Лист3!H16+Лист3!G16+Лист3!G17+Лист3!G18+Лист3!H18+Лист3!I18+Лист3!I17+Лист3!I16>4,1,0)","v":0},{"$f":"IF(Лист3!I17+Лист3!I16+Лист3!H16+Лист3!H17+Лист3!H18+Лист3!I18+Лист3!J18+Лист3!J17+Лист3!J16>4,1,0)","v":1},{"$f":"IF(Лист3!J17+Лист3!J16+Лист3!I16+Лист3!I17+Лист3!I18+Лист3!J18+Лист3!K18+Лист3!K17+Лист3!K16>4,1,0)","v":0},{"$f":"IF(Лист3!K17+Лист3!K16+Лист3!J16+Лист3!J17+Лист3!J18+Лист3!K18+Лист3!L18+Лист3!L17+Лист3!L16>4,1,0)","v":1},{"$f":"IF(Лист3!L17+Лист3!L16+Лист3!K16+Лист3!K17+Лист3!K18+Лист3!L18+Лист3!M18+Лист3!M17+Лист3!M16>4,1,0)","v":1},{"$f":"IF(Лист3!M17+Лист3!M16+Лист3!L16+Лист3!L17+Лист3!L18+Лист3!M18+Лист3!N18+Лист3!N17+Лист3!N16>4,1,0)","v":1},{"$f":"IF(Лист3!N17+Лист3!N16+Лист3!M16+Лист3!M17+Лист3!M18+Лист3!N18+Лист3!O18+Лист3!O17+Лист3!O16>4,1,0)","v":1},{"$f":"IF(Лист3!O17+Лист3!O16+Лист3!N16+Лист3!N17+Лист3!N18+Лист3!O18+Лист3!P18+Лист3!P17+Лист3!P16>4,1,0)","v":1},{"$f":"IF(Лист3!P17+Лист3!P16+Лист3!O16+Лист3!O17+Лист3!O18+Лист3!P18+Лист3!Q18+Лист3!Q17+Лист3!Q16>4,1,0)","v":1}]
[null,null,{"$f":"IF(Лист3!D18+Лист3!D17+Лист3!C17+Лист3!C18+Лист3!C19+Лист3!D19+Лист3!E19+Лист3!E18+Лист3!E17>4,1,0)","v":1},{"$f":"IF(Лист3!E18+Лист3!E17+Лист3!D17+Лист3!D18+Лист3!D19+Лист3!E19+Лист3!F19+Лист3!F18+Лист3!F17>4,1,0)","v":1},{"$f":"IF(Лист3!F18+Лист3!F17+Лист3!E17+Лист3!E18+Лист3!E19+Лист3!F19+Лист3!G19+Лист3!G18+Лист3!G17>4,1,0)","v":1},{"$f":"IF(Лист3!G18+Лист3!G17+Лист3!F17+Лист3!F18+Лист3!F19+Лист3!G19+Лист3!H19+Лист3!H18+Лист3!H17>4,1,0)","v":1},{"$f":"IF(Лист3!H18+Лист3!H17+Лист3!G17+Лист3!G18+Лист3!G19+Лист3!H19+Лист3!I19+Лист3!I18+Лист3!I17>4,1,0)","v":1},{"$f":"IF(Лист3!I18+Лист3!I17+Лист3!H17+Лист3!H18+Лист3!H19+Лист3!I19+Лист3!J19+Лист3!J18+Лист3!J17>4,1,0)","v":1},{"$f":"IF(Лист3!J18+Лист3!J17+Лист3!I17+Лист3!I18+Лист3!I19+Лист3!J19+Лист3!K19+Лист3!K18+Лист3!K17>4,1,0)","v":0},{"$f":"IF(Лист3!K18+Лист3!K17+Лист3!J17+Лист3!J18+Лист3!J19+Лист3!K19+Лист3!L19+Лист3!L18+Лист3!L17>4,1,0)","v":1},{"$f":"IF(Лист3!L18+Лист3!L17+Лист3!K17+Лист3!K18+Лист3!K19+Лист3!L19+Лист3!M19+Лист3!M18+Лист3!M17>4,1,0)","v":0},{"$f":"IF(Лист3!M18+Лист3!M17+Лист3!L17+Лист3!L18+Лист3!L19+Лист3!M19+Лист3!N19+Лист3!N18+Лист3!N17>4,1,0)","v":0},{"$f":"IF(Лист3!N18+Лист3!N17+Лист3!M17+Лист3!M18+Лист3!M19+Лист3!N19+Лист3!O19+Лист3!O18+Лист3!O17>4,1,0)","v":0},{"$f":"IF(Лист3!O18+Лист3!O17+Лист3!N17+Лист3!N18+Лист3!N19+Лист3!O19+Лист3!P19+Лист3!P18+Лист3!P17>4,1,0)","v":1},{"$f":"IF(Лист3!P18+Лист3!P17+Лист3!O17+Лист3!O18+Лист3!O19+Лист3!P19+Лист3!Q19+Лист3!Q18+Лист3!Q17>4,1,0)","v":1}]
[null,null,{"$f":"IF(Лист3!D19+Лист3!D18+Лист3!C18+Лист3!C19+Лист3!C20+Лист3!D20+Лист3!E20+Лист3!E19+Лист3!E18>4,1,0)","v":0},{"$f":"IF(Лист3!E19+Лист3!E18+Лист3!D18+Лист3!D19+Лист3!D20+Лист3!E20+Лист3!F20+Лист3!F19+Лист3!F18>4,1,0)","v":1},{"$f":"IF(Лист3!F19+Лист3!F18+Лист3!E18+Лист3!E19+Лист3!E20+Лист3!F20+Лист3!G20+Лист3!G19+Лист3!G18>4,1,0)","v":1},{"$f":"IF(Лист3!G19+Лист3!G18+Лист3!F18+Лист3!F19+Лист3!F20+Лист3!G20+Лист3!H20+Лист3!H19+Лист3!H18>4,1,0)","v":1},{"$f":"IF(Лист3!H19+Лист3!H18+Лист3!G18+Лист3!G19+Лист3!G20+Лист3!H20+Лист3!I20+Лист3!I19+Лист3!I18>4,1,0)","v":1},{"$f":"IF(Лист3!I19+Лист3!I18+Лист3!H18+Лист3!H19+Лист3!H20+Лист3!I20+Лист3!J20+Лист3!J19+Лист3!J18>4,1,0)","v":1},{"$f":"IF(Лист3!J19+Лист3!J18+Лист3!I18+Лист3!I19+Лист3!I20+Лист3!J20+Лист3!K20+Лист3!K19+Лист3!K18>4,1,0)","v":1},{"$f":"IF(Лист3!K19+Лист3!K18+Лист3!J18+Лист3!J19+Лист3!J20+Лист3!K20+Лист3!L20+Лист3!L19+Лист3!L18>4,1,0)","v":1},{"$f":"IF(Лист3!L19+Лист3!L18+Лист3!K18+Лист3!K19+Лист3!K20+Лист3!L20+Лист3!M20+Лист3!M19+Лист3!M18>4,1,0)","v":0},{"$f":"IF(Лист3!M19+Лист3!M18+Лист3!L18+Лист3!L19+Лист3!L20+Лист3!M20+Лист3!N20+Лист3!N19+Лист3!N18>4,1,0)","v":0},{"$f":"IF(Лист3!N19+Лист3!N18+Лист3!M18+Лист3!M19+Лист3!M20+Лист3!N20+Лист3!O20+Лист3!O19+Лист3!O18>4,1,0)","v":0},{"$f":"IF(Лист3!O19+Лист3!O18+Лист3!N18+Лист3!N19+Лист3!N20+Лист3!O20+Лист3!P20+Лист3!P19+Лист3!P18>4,1,0)","v":1},{"$f":"IF(Лист3!P19+Лист3!P18+Лист3!O18+Лист3!O19+Лист3!O20+Лист3!P20+Лист3!Q20+Лист3!Q19+Лист3!Q18>4,1,0)","v":1}]
[null,null,{"$f":"IF(Лист3!D20+Лист3!D19+Лист3!C19+Лист3!C20+Лист3!C21+Лист3!D21+Лист3!E21+Лист3!E20+Лист3!E19>4,1,0)","v":0},{"$f":"IF(Лист3!E20+Лист3!E19+Лист3!D19+Лист3!D20+Лист3!D21+Лист3!E21+Лист3!F21+Лист3!F20+Лист3!F19>4,1,0)","v":1},{"$f":"IF(Лист3!F20+Лист3!F19+Лист3!E19+Лист3!E20+Лист3!E21+Лист3!F21+Лист3!G21+Лист3!G20+Лист3!G19>4,1,0)","v":1},{"$f":"IF(Лист3!G20+Лист3!G19+Лист3!F19+Лист3!F20+Лист3!F21+Лист3!G21+Лист3!H21+Лист3!H20+Лист3!H19>4,1,0)","v":1},{"$f":"IF(Лист3!H20+Лист3!H19+Лист3!G19+Лист3!G20+Лист3!G21+Лист3!H21+Лист3!I21+Лист3!I20+Лист3!I19>4,1,0)","v":1},{"$f":"IF(Лист3!I20+Лист3!I19+Лист3!H19+Лист3!H20+Лист3!H21+Лист3!I21+Лист3!J21+Лист3!J20+Лист3!J19>4,1,0)","v":1},{"$f":"IF(Лист3!J20+Лист3!J19+Лист3!I19+Лист3!I20+Лист3!I21+Лист3!J21+Лист3!K21+Лист3!K20+Лист3!K19>4,1,0)","v":1},{"$f":"IF(Лист3!K20+Лист3!K19+Лист3!J19+Лист3!J20+Лист3!J21+Лист3!K21+Лист3!L21+Лист3!L20+Лист3!L19>4,1,0)","v":1},{"$f":"IF(Лист3!L20+Лист3!L19+Лист3!K19+Лист3!K20+Лист3!K21+Лист3!L21+Лист3!M21+Лист3!M20+Лист3!M19>4,1,0)","v":0},{"$f":"IF(Лист3!M20+Лист3!M19+Лист3!L19+Лист3!L20+Лист3!L21+Лист3!M21+Лист3!N21+Лист3!N20+Лист3!N19>4,1,0)","v":1},{"$f":"IF(Лист3!N20+Лист3!N19+Лист3!M19+Лист3!M20+Лист3!M21+Лист3!N21+Лист3!O21+Лист3!O20+Лист3!O19>4,1,0)","v":0},{"$f":"IF(Лист3!O20+Лист3!O19+Лист3!N19+Лист3!N20+Лист3!N21+Лист3!O21+Лист3!P21+Лист3!P20+Лист3!P19>4,1,0)","v":1},{"$f":"IF(Лист3!P20+Лист3!P19+Лист3!O19+Лист3!O20+Лист3!O21+Лист3!P21+Лист3!Q21+Лист3!Q20+Лист3!Q19>4,1,0)","v":1}]
[null,null,{"$f":"IF(Лист3!D21+Лист3!D20+Лист3!C20+Лист3!C21+Лист3!C22+Лист3!D22+Лист3!E22+Лист3!E21+Лист3!E20>4,1,0)","v":0},{"$f":"IF(Лист3!E21+Лист3!E20+Лист3!D20+Лист3!D21+Лист3!D22+Лист3!E22+Лист3!F22+Лист3!F21+Лист3!F20>4,1,0)","v":1},{"$f":"IF(Лист3!F21+Лист3!F20+Лист3!E20+Лист3!E21+Лист3!E22+Лист3!F22+Лист3!G22+Лист3!G21+Лист3!G20>4,1,0)","v":1},{"$f":"IF(Лист3!G21+Лист3!G20+Лист3!F20+Лист3!F21+Лист3!F22+Лист3!G22+Лист3!H22+Лист3!H21+Лист3!H20>4,1,0)","v":0},{"$f":"IF(Лист3!H21+Лист3!H20+Лист3!G20+Лист3!G21+Лист3!G22+Лист3!H22+Лист3!I22+Лист3!I21+Лист3!I20>4,1,0)","v":0},{"$f":"IF(Лист3!I21+Лист3!I20+Лист3!H20+Лист3!H21+Лист3!H22+Лист3!I22+Лист3!J22+Лист3!J21+Лист3!J20>4,1,0)","v":1},{"$f":"IF(Лист3!J21+Лист3!J20+Лист3!I20+Лист3!I21+Лист3!I22+Лист3!J22+Лист3!K22+Лист3!K21+Лист3!K20>4,1,0)","v":1},{"$f":"IF(Лист3!K21+Лист3!K20+Лист3!J20+Лист3!J21+Лист3!J22+Лист3!K22+Лист3!L22+Лист3!L21+Лист3!L20>4,1,0)","v":1},{"$f":"IF(Лист3!L21+Лист3!L20+Лист3!K20+Лист3!K21+Лист3!K22+Лист3!L22+Лист3!M22+Лист3!M21+Лист3!M20>4,1,0)","v":0},{"$f":"IF(Лист3!M21+Лист3!M20+Лист3!L20+Лист3!L21+Лист3!L22+Лист3!M22+Лист3!N22+Лист3!N21+Лист3!N20>4,1,0)","v":0},{"$f":"IF(Лист3!N21+Лист3!N20+Лист3!M20+Лист3!M21+Лист3!M22+Лист3!N22+Лист3!O22+Лист3!O21+Лист3!O20>4,1,0)","v":0},{"$f":"IF(Лист3!O21+Лист3!O20+Лист3!N20+Лист3!N21+Лист3!N22+Лист3!O22+Лист3!P22+Лист3!P21+Лист3!P20>4,1,0)","v":1},{"$f":"IF(Лист3!P21+Лист3!P20+Лист3!O20+Лист3!O21+Лист3!O22+Лист3!P22+Лист3!Q22+Лист3!Q21+Лист3!Q20>4,1,0)","v":1}]
[null,null,{"$f":"IF(Лист3!D22+Лист3!D21+Лист3!C21+Лист3!C22+Лист3!C23+Лист3!D23+Лист3!E23+Лист3!E22+Лист3!E21>4,1,0)","v":1},{"$f":"IF(Лист3!E22+Лист3!E21+Лист3!D21+Лист3!D22+Лист3!D23+Лист3!E23+Лист3!F23+Лист3!F22+Лист3!F21>4,1,0)","v":1},{"$f":"IF(Лист3!F22+Лист3!F21+Лист3!E21+Лист3!E22+Лист3!E23+Лист3!F23+Лист3!G23+Лист3!G22+Лист3!G21>4,1,0)","v":1},{"$f":"IF(Лист3!G22+Лист3!G21+Лист3!F21+Лист3!F22+Лист3!F23+Лист3!G23+Лист3!H23+Лист3!H22+Лист3!H21>4,1,0)","v":0},{"$f":"IF(Лист3!H22+Лист3!H21+Лист3!G21+Лист3!G22+Лист3!G23+Лист3!H23+Лист3!I23+Лист3!I22+Лист3!I21>4,1,0)","v":1},{"$f":"IF(Лист3!I22+Лист3!I21+Лист3!H21+Лист3!H22+Лист3!H23+Лист3!I23+Лист3!J23+Лист3!J22+Лист3!J21>4,1,0)","v":1},{"$f":"IF(Лист3!J22+Лист3!J21+Лист3!I21+Лист3!I22+Лист3!I23+Лист3!J23+Лист3!K23+Лист3!K22+Лист3!K21>4,1,0)","v":1},{"$f":"IF(Лист3!K22+Лист3!K21+Лист3!J21+Лист3!J22+Лист3!J23+Лист3!K23+Лист3!L23+Лист3!L22+Лист3!L21>4,1,0)","v":0},{"$f":"IF(Лист3!L22+Лист3!L21+Лист3!K21+Лист3!K22+Лист3!K23+Лист3!L23+Лист3!M23+Лист3!M22+Лист3!M21>4,1,0)","v":0},{"$f":"IF(Лист3!M22+Лист3!M21+Лист3!L21+Лист3!L22+Лист3!L23+Лист3!M23+Лист3!N23+Лист3!N22+Лист3!N21>4,1,0)","v":0},{"$f":"IF(Лист3!N22+Лист3!N21+Лист3!M21+Лист3!M22+Лист3!M23+Лист3!N23+Лист3!O23+Лист3!O22+Лист3!O21>4,1,0)","v":0},{"$f":"IF(Лист3!O22+Лист3!O21+Лист3!N21+Лист3!N22+Лист3!N23+Лист3!O23+Лист3!P23+Лист3!P22+Лист3!P21>4,1,0)","v":1},{"$f":"IF(Лист3!P22+Лист3!P21+Лист3!O21+Лист3!O22+Лист3!O23+Лист3!P23+Лист3!Q23+Лист3!Q22+Лист3!Q21>4,1,0)","v":1}]
[null,null,{"$f":"IF(Лист3!D23+Лист3!D22+Лист3!C22+Лист3!C23+Лист3!C24+Лист3!D24+Лист3!E24+Лист3!E23+Лист3!E22>4,1,0)","v":1},{"$f":"IF(Лист3!E23+Лист3!E22+Лист3!D22+Лист3!D23+Лист3!D24+Лист3!E24+Лист3!F24+Лист3!F23+Лист3!F22>4,1,0)","v":1},{"$f":"IF(Лист3!F23+Лист3!F22+Лист3!E22+Лист3!E23+Лист3!E24+Лист3!F24+Лист3!G24+Лист3!G23+Лист3!G22>4,1,0)","v":0},{"$f":"IF(Лист3!G23+Лист3!G22+Лист3!F22+Лист3!F23+Лист3!F24+Лист3!G24+Лист3!H24+Лист3!H23+Лист3!H22>4,1,0)","v":0},{"$f":"IF(Лист3!H23+Лист3!H22+Лист3!G22+Лист3!G23+Лист3!G24+Лист3!H24+Лист3!I24+Лист3!I23+Лист3!I22>4,1,0)","v":0},{"$f":"IF(Лист3!I23+Лист3!I22+Лист3!H22+Лист3!H23+Лист3!H24+Лист3!I24+Лист3!J24+Лист3!J23+Лист3!J22>4,1,0)","v":1},{"$f":"IF(Лист3!J23+Лист3!J22+Лист3!I22+Лист3!I23+Лист3!I24+Лист3!J24+Лист3!K24+Лист3!K23+Лист3!K22>4,1,0)","v":1},{"$f":"IF(Лист3!K23+Лист3!K22+Лист3!J22+Лист3!J23+Лист3!J24+Лист3!K24+Лист3!L24+Лист3!L23+Лист3!L22>4,1,0)","v":1},{"$f":"IF(Лист3!L23+Лист3!L22+Лист3!K22+Лист3!K23+Лист3!K24+Лист3!L24+Лист3!M24+Лист3!M23+Лист3!M22>4,1,0)","v":1},{"$f":"IF(Лист3!M23+Лист3!M22+Лист3!L22+Лист3!L23+Лист3!L24+Лист3!M24+Лист3!N24+Лист3!N23+Лист3!N22>4,1,0)","v":0},{"$f":"IF(Лист3!N23+Лист3!N22+Лист3!M22+Лист3!M23+Лист3!M24+Лист3!N24+Лист3!O24+Лист3!O23+Лист3!O22>4,1,0)","v":1},{"$f":"IF(Лист3!O23+Лист3!O22+Лист3!N22+Лист3!N23+Лист3!N24+Лист3!O24+Лист3!P24+Лист3!P23+Лист3!P22>4,1,0)","v":1},{"$f":"IF(Лист3!P23+Лист3!P22+Лист3!O22+Лист3!O23+Лист3!O24+Лист3!P24+Лист3!Q24+Лист3!Q23+Лист3!Q22>4,1,0)","v":0}]
[null,null,{"$f":"IF(Лист3!D24+Лист3!D23+Лист3!C23+Лист3!C24+Лист3!C25+Лист3!D25+Лист3!E25+Лист3!E24+Лист3!E23>4,1,0)","v":1},{"$f":"IF(Лист3!E24+Лист3!E23+Лист3!D23+Лист3!D24+Лист3!D25+Лист3!E25+Лист3!F25+Лист3!F24+Лист3!F23>4,1,0)","v":1},{"$f":"IF(Лист3!F24+Лист3!F23+Лист3!E23+Лист3!E24+Лист3!E25+Лист3!F25+Лист3!G25+Лист3!G24+Лист3!G23>4,1,0)","v":1},{"$f":"IF(Лист3!G24+Лист3!G23+Лист3!F23+Лист3!F24+Лист3!F25+Лист3!G25+Лист3!H25+Лист3!H24+Лист3!H23>4,1,0)","v":1},{"$f":"IF(Лист3!H24+Лист3!H23+Лист3!G23+Лист3!G24+Лист3!G25+Лист3!H25+Лист3!I25+Лист3!I24+Лист3!I23>4,1,0)","v":1},{"$f":"IF(Лист3!I24+Лист3!I23+Лист3!H23+Лист3!H24+Лист3!H25+Лист3!I25+Лист3!J25+Лист3!J24+Лист3!J23>4,1,0)","v":1},{"$f":"IF(Лист3!J24+Лист3!J23+Лист3!I23+Лист3!I24+Лист3!I25+Лист3!J25+Лист3!K25+Лист3!K24+Лист3!K23>4,1,0)","v":1},{"$f":"IF(Лист3!K24+Лист3!K23+Лист3!J23+Лист3!J24+Лист3!J25+Лист3!K25+Лист3!L25+Лист3!L24+Лист3!L23>4,1,0)","v":1},{"$f":"IF(Лист3!L24+Лист3!L23+Лист3!K23+Лист3!K24+Лист3!K25+Лист3!L25+Лист3!M25+Лист3!M24+Лист3!M23>4,1,0)","v":1},{"$f":"IF(Лист3!M24+Лист3!M23+Лист3!L23+Лист3!L24+Лист3!L25+Лист3!M25+Лист3!N25+Лист3!N24+Лист3!N23>4,1,0)","v":1},{"$f":"IF(Лист3!N24+Лист3!N23+Лист3!M23+Лист3!M24+Лист3!M25+Лист3!N25+Лист3!O25+Лист3!O24+Лист3!O23>4,1,0)","v":1},{"$f":"IF(Лист3!O24+Лист3!O23+Лист3!N23+Лист3!N24+Лист3!N25+Лист3!O25+Лист3!P25+Лист3!P24+Лист3!P23>4,1,0)","v":1},{"$f":"IF(Лист3!P24+Лист3!P23+Лист3!O23+Лист3!O24+Лист3!O25+Лист3!P25+Лист3!Q25+Лист3!Q24+Лист3!Q23>4,1,0)","v":0}]
[null,null,{"$f":"IF(Лист3!D25+Лист3!D24+Лист3!C24+Лист3!C25+Лист3!C26+Лист3!D26+Лист3!E26+Лист3!E25+Лист3!E24>4,1,0)","v":0},{"$f":"IF(Лист3!E25+Лист3!E24+Лист3!D24+Лист3!D25+Лист3!D26+Лист3!E26+Лист3!F26+Лист3!F25+Лист3!F24>4,1,0)","v":1},{"$f":"IF(Лист3!F25+Лист3!F24+Лист3!E24+Лист3!E25+Лист3!E26+Лист3!F26+Лист3!G26+Лист3!G25+Лист3!G24>4,1,0)","v":1},{"$f":"IF(Лист3!G25+Лист3!G24+Лист3!F24+Лист3!F25+Лист3!F26+Лист3!G26+Лист3!H26+Лист3!H25+Лист3!H24>4,1,0)","v":1},{"$f":"IF(Лист3!H25+Лист3!H24+Лист3!G24+Лист3!G25+Лист3!G26+Лист3!H26+Лист3!I26+Лист3!I25+Лист3!I24>4,1,0)","v":0},{"$f":"IF(Лист3!I25+Лист3!I24+Лист3!H24+Лист3!H25+Лист3!H26+Лист3!I26+Лист3!J26+Лист3!J25+Лист3!J24>4,1,0)","v":0},{"$f":"IF(Лист3!J25+Лист3!J24+Лист3!I24+Лист3!I25+Лист3!I26+Лист3!J26+Лист3!K26+Лист3!K25+Лист3!K24>4,1,0)","v":0},{"$f":"IF(Лист3!K25+Лист3!K24+Лист3!J24+Лист3!J25+Лист3!J26+Лист3!K26+Лист3!L26+Лист3!L25+Лист3!L24>4,1,0)","v":1},{"$f":"IF(Лист3!L25+Лист3!L24+Лист3!K24+Лист3!K25+Лист3!K26+Лист3!L26+Лист3!M26+Лист3!M25+Лист3!M24>4,1,0)","v":1},{"$f":"IF(Лист3!M25+Лист3!M24+Лист3!L24+Лист3!L25+Лист3!L26+Лист3!M26+Лист3!N26+Лист3!N25+Лист3!N24>4,1,0)","v":0},{"$f":"IF(Лист3!N25+Лист3!N24+Лист3!M24+Лист3!M25+Лист3!M26+Лист3!N26+Лист3!O26+Лист3!O25+Лист3!O24>4,1,0)","v":0},{"$f":"IF(Лист3!O25+Лист3!O24+Лист3!N24+Лист3!N25+Лист3!N26+Лист3!O26+Лист3!P26+Лист3!P25+Лист3!P24>4,1,0)","v":0},{"$f":"IF(Лист3!P25+Лист3!P24+Лист3!O24+Лист3!O25+Лист3!O26+Лист3!P26+Лист3!Q26+Лист3!Q25+Лист3!Q24>4,1,0)","v":0}]
[null,null,{"$f":"IF(Лист3!D26+Лист3!D25+Лист3!C25+Лист3!C26+Лист3!C27+Лист3!D27+Лист3!E27+Лист3!E26+Лист3!E25>4,1,0)","v":0},{"$f":"IF(Лист3!E26+Лист3!E25+Лист3!D25+Лист3!D26+Лист3!D27+Лист3!E27+Лист3!F27+Лист3!F26+Лист3!F25>4,1,0)","v":1},{"$f":"IF(Лист3!F26+Лист3!F25+Лист3!E25+Лист3!E26+Лист3!E27+Лист3!F27+Лист3!G27+Лист3!G26+Лист3!G25>4,1,0)","v":1},{"$f":"IF(Лист3!G26+Лист3!G25+Лист3!F25+Лист3!F26+Лист3!F27+Лист3!G27+Лист3!H27+Лист3!H26+Лист3!H25>4,1,0)","v":1},{"$f":"IF(Лист3!H26+Лист3!H25+Лист3!G25+Лист3!G26+Лист3!G27+Лист3!H27+Лист3!I27+Лист3!I26+Лист3!I25>4,1,0)","v":0},{"$f":"IF(Лист3!I26+Лист3!I25+Лист3!H25+Лист3!H26+Лист3!H27+Лист3!I27+Лист3!J27+Лист3!J26+Лист3!J25>4,1,0)","v":0},{"$f":"IF(Лист3!J26+Лист3!J25+Лист3!I25+Лист3!I26+Лист3!I27+Лист3!J27+Лист3!K27+Лист3!K26+Лист3!K25>4,1,0)","v":0},{"$f":"IF(Лист3!K26+Лист3!K25+Лист3!J25+Лист3!J26+Лист3!J27+Лист3!K27+Лист3!L27+Лист3!L26+Лист3!L25>4,1,0)","v":1},{"$f":"IF(Лист3!L26+Лист3!L25+Лист3!K25+Лист3!K26+Лист3!K27+Лист3!L27+Лист3!M27+Лист3!M26+Лист3!M25>4,1,0)","v":0},{"$f":"IF(Лист3!M26+Лист3!M25+Лист3!L25+Лист3!L26+Лист3!L27+Лист3!M27+Лист3!N27+Лист3!N26+Лист3!N25>4,1,0)","v":0},{"$f":"IF(Лист3!N26+Лист3!N25+Лист3!M25+Лист3!M26+Лист3!M27+Лист3!N27+Лист3!O27+Лист3!O26+Лист3!O25>4,1,0)","v":0},{"$f":"IF(Лист3!O26+Лист3!O25+Лист3!N25+Лист3!N26+Лист3!N27+Лист3!O27+Лист3!P27+Лист3!P26+Лист3!P25>4,1,0)","v":0},{"$f":"IF(Лист3!P26+Лист3!P25+Лист3!O25+Лист3!O26+Лист3!O27+Лист3!P27+Лист3!Q27+Лист3!Q26+Лист3!Q25>4,1,0)","v":1}]
[]
[]
[]
[]
[null,null,1,null,null,1,null,1,null,null,1,null,null,1,null,1]
[null,null,0,1,0,1,0,1,1,0,1,0,1,0,1]
[null,null,1,0,0,0,1,0,1,1,0,1,1,1,1,1]
[null,null,1,1,1,1,1,0,0,0,1,1,0,1,0]
[null,1,0,0,0,1,1,0,1,1,0,1,1,0,1,1]
[null,null,1,1,1,1,1,1,1,0,0,1,0,1,1]
[null,null,0,0,1,0,0,1,0,1,0,0,1,0,1]
[null,1,1,0,0,0,1,1,0,0,1,1,1,1,1]
[null,null,1,1,1,1,1,1,1,1,1,1,1,0,1]
[null,null,0,0,0,0,1,0,0,1,1,0,1,1,1,1]
[null,null,0,1,1,1,0,1,0,1,1,0,1,1,0]
[null,null,1,1,1,1,0,1,0,0,0,0,1,1,0,1]
[null,null,0,1,0,1,1,1,0,1,0,1,1,0,1]
[null,null,0,1,1,0,1,0,0,1,1,1,1,1,1]
[null,null,0,1,0,0,1,0,1,0,1,0,1,0,1]
[null,1,1,1,1,1,1,0,1,1,0,0,0,1,1,1]
[null,null,1,0,1,0,1,1,0,0,1,0,1,0,1]
[null,null,0,0,1,0,0,1,1,1,1,0,1,1,1]
[null,null,1,1,1,1,0,1,0,1,0,0,1,0,1,1]
[null,null,1,1,0,0,1,0,1,0,1,0,0,1,1]
[null,1,1,1,0,0,1,1,0,1,0,1,1,0,1]
[null,null,0,1,1,0,1,0,1,1,0,1,0,1,0]
[null,null,1,1,0,1,1,0,1,0,1,0,1,1,0]
[null,null,1,0,1,1,0,0,0,1,1,0,0,0,1,1]
[null,null,0,1,1,1,0,0,1,0,1,0,0,1,0,1]
[null,null,null,null,null,1,null,1,null,null,null,1,null,1]